BEGIN:VCALENDAR
VERSION:2.0
PRODID:-//SINTAP Açores - ECPv6.15.20//NONSGML v1.0//EN
CALSCALE:GREGORIAN
METHOD:PUBLISH
X-WR-CALNAME:SINTAP Açores
X-ORIGINAL-URL:https://sintapazores.com
X-WR-CALDESC:Eventos para SINTAP Açores
REFRESH-INTERVAL;VALUE=DURATION:PT1H
X-Robots-Tag:noindex
X-PUBLISHED-TTL:PT1H
BEGIN:VTIMEZONE
TZID:Atlantic/Azores
BEGIN:DAYLIGHT
TZOFFSETFROM:-0100
TZOFFSETTO:+0000
TZNAME:+00
DTSTART:20230326T010000
END:DAYLIGHT
BEGIN:STANDARD
TZOFFSETFROM:+0000
TZOFFSETTO:-0100
TZNAME:-01
DTSTART:20231029T010000
END:STANDARD
BEGIN:DAYLIGHT
TZOFFSETFROM:-0100
TZOFFSETTO:+0000
TZNAME:+00
DTSTART:20240331T010000
END:DAYLIGHT
BEGIN:STANDARD
TZOFFSETFROM:+0000
TZOFFSETTO:-0100
TZNAME:-01
DTSTART:20241027T010000
END:STANDARD
BEGIN:DAYLIGHT
TZOFFSETFROM:-0100
TZOFFSETTO:+0000
TZNAME:+00
DTSTART:20250330T010000
END:DAYLIGHT
BEGIN:STANDARD
TZOFFSETFROM:+0000
TZOFFSETTO:-0100
TZNAME:-01
DTSTART:20251026T010000
END:STANDARD
END:VTIMEZONE
BEGIN:VEVENT
DTSTART;VALUE=DATE:20241003
DTEND;VALUE=DATE:20241005
DTSTAMP:20260423T205957
CREATED:20240606T114127Z
LAST-MODIFIED:20240606T114127Z
UID:10000146-1727913600-1728086399@sintapazores.com
SUMMARY:Ação 5 - ATENDIMENTO AO PÚBLICO
DESCRIPTION:
URL:https://sintapazores.com/evento/acao-5-atendimento-ao-publico/
LOCATION:Flores\, Flores\, Portugal
CATEGORIES:Formação
ORGANIZER;CN="SINTAP A%C3%A7ores":MAILTO:sede@sintapazores.com
END:VEVENT
BEGIN:VEVENT
DTSTART;TZID=Atlantic/Azores:20241002T163000
DTEND;TZID=Atlantic/Azores:20241002T180000
DTSTAMP:20260423T205957
CREATED:20241002T100252Z
LAST-MODIFIED:20241002T100252Z
UID:10000175-1727886600-1727892000@sintapazores.com
SUMMARY:Reunião na Escola Básica e Secundária da Graciosa
DESCRIPTION:
URL:https://sintapazores.com/evento/reuniao-na-escola-basica-e-secundaria-da-graciosa/
LOCATION:Graciosa\, Graciosa\, Portugal
CATEGORIES:Geral
ORGANIZER;CN="SINTAP A%C3%A7ores":MAILTO:sede@sintapazores.com
END:VEVENT
BEGIN:VEVENT
DTSTART;TZID=Atlantic/Azores:20241002T160000
DTEND;TZID=Atlantic/Azores:20241002T170000
DTSTAMP:20260423T205957
CREATED:20241002T100149Z
LAST-MODIFIED:20241002T100149Z
UID:10000174-1727884800-1727888400@sintapazores.com
SUMMARY:Reunião no Serviço Florestal da Graciosa
DESCRIPTION:
URL:https://sintapazores.com/evento/reuniao-no-servico-florestal-da-graciosa/
LOCATION:Graciosa\, Graciosa\, Portugal
CATEGORIES:Geral
ORGANIZER;CN="SINTAP A%C3%A7ores":MAILTO:sede@sintapazores.com
END:VEVENT
BEGIN:VEVENT
DTSTART;TZID=Atlantic/Azores:20241002T150000
DTEND;TZID=Atlantic/Azores:20241002T170000
DTSTAMP:20260423T205957
CREATED:20241002T100043Z
LAST-MODIFIED:20241002T100043Z
UID:10000173-1727881200-1727888400@sintapazores.com
SUMMARY:Reunião no Serviço de Desenvolvimento Agrário da Graciosa
DESCRIPTION:
URL:https://sintapazores.com/evento/reuniao-no-servico-de-desenvolvimento-agrario-da-graciosa/
LOCATION:Graciosa\, Graciosa\, Portugal
CATEGORIES:Geral
ORGANIZER;CN="SINTAP A%C3%A7ores":MAILTO:sede@sintapazores.com
END:VEVENT
BEGIN:VEVENT
DTSTART;TZID=Atlantic/Azores:20241002T140000
DTEND;TZID=Atlantic/Azores:20241002T170000
DTSTAMP:20260423T205957
CREATED:20241002T100804Z
LAST-MODIFIED:20241002T100804Z
UID:10000180-1727877600-1727888400@sintapazores.com
SUMMARY:Reunião na Santa Casa da Misericórdia da Vila da Praia da Graciosa Lar de Idosos
DESCRIPTION:
URL:https://sintapazores.com/evento/reuniao-na-santa-casa-da-misericordia-da-vila-da-praia-da-graciosa-lar-de-idosos/
LOCATION:Graciosa\, Graciosa\, Portugal
CATEGORIES:Geral
ORGANIZER;CN="SINTAP A%C3%A7ores":MAILTO:sede@sintapazores.com
END:VEVENT
BEGIN:VEVENT
DTSTART;TZID=Atlantic/Azores:20241002T133000
DTEND;TZID=Atlantic/Azores:20241002T170000
DTSTAMP:20260423T205957
CREATED:20241002T095941Z
LAST-MODIFIED:20241002T101142Z
UID:10000172-1727875800-1727888400@sintapazores.com
SUMMARY:Reunião na Unidade de Saúde de Ilha - de Santa Cruz da Graciosa
DESCRIPTION:
URL:https://sintapazores.com/evento/reuniao-na-unidade-de-saude-de-ilha-de-santa-cruz-da-graciosa/
LOCATION:Graciosa\, Graciosa\, Portugal
CATEGORIES:Geral
ORGANIZER;CN="SINTAP A%C3%A7ores":MAILTO:sede@sintapazores.com
END:VEVENT
BEGIN:VEVENT
DTSTART;TZID=Atlantic/Azores:20241002T110000
DTEND;TZID=Atlantic/Azores:20241002T170000
DTSTAMP:20260423T205957
CREATED:20241002T095841Z
LAST-MODIFIED:20241002T095841Z
UID:10000171-1727866800-1727888400@sintapazores.com
SUMMARY:Reunião na Direção Regional do Ambiente da Graciosa
DESCRIPTION:
URL:https://sintapazores.com/evento/reuniao-na-direcao-regional-do-ambiente-da-graciosa/
LOCATION:Graciosa\, Graciosa\, Portugal
CATEGORIES:Geral
ORGANIZER;CN="SINTAP A%C3%A7ores":MAILTO:sede@sintapazores.com
END:VEVENT
BEGIN:VEVENT
DTSTART;TZID=Atlantic/Azores:20241002T100000
DTEND;TZID=Atlantic/Azores:20241002T170000
DTSTAMP:20260423T205957
CREATED:20241002T095745Z
LAST-MODIFIED:20241002T095745Z
UID:10000170-1727863200-1727888400@sintapazores.com
SUMMARY:Reunião no Museu da Graciosa
DESCRIPTION:
URL:https://sintapazores.com/evento/reuniao-no-museu-da-graciosa/
LOCATION:Graciosa\, Graciosa\, Portugal
CATEGORIES:Geral
ORGANIZER;CN="SINTAP A%C3%A7ores":MAILTO:sede@sintapazores.com
END:VEVENT
BEGIN:VEVENT
DTSTART;VALUE=DATE:20240926
DTEND;VALUE=DATE:20240928
DTSTAMP:20260423T205957
CREATED:20240606T113757Z
LAST-MODIFIED:20240606T113757Z
UID:10000145-1727308800-1727481599@sintapazores.com
SUMMARY:Ação 4 - ÉTICA\, INTEGRIDADE E TRANSPARÊNCIA
DESCRIPTION:
URL:https://sintapazores.com/evento/acao-4-etica-integridade-e-transparencia/
LOCATION:Flores\, Flores\, Portugal
CATEGORIES:Formação
ORGANIZER;CN="SINTAP A%C3%A7ores":MAILTO:sede@sintapazores.com
END:VEVENT
BEGIN:VEVENT
DTSTART;VALUE=DATE:20240925
DTEND;VALUE=DATE:20240928
DTSTAMP:20260423T205957
CREATED:20240606T113557Z
LAST-MODIFIED:20240606T113557Z
UID:10000144-1727222400-1727481599@sintapazores.com
SUMMARY:Ação 3 - FERIAS FALTAS E LICENÇAS
DESCRIPTION:
URL:https://sintapazores.com/evento/acao-3-ferias-faltas-e-licencas/
LOCATION:Terceira\, Terceira\, Portugal
CATEGORIES:Formação
ORGANIZER;CN="SINTAP A%C3%A7ores":MAILTO:sede@sintapazores.com
END:VEVENT
BEGIN:VEVENT
DTSTART;VALUE=DATE:20240923
DTEND;VALUE=DATE:20240926
DTSTAMP:20260423T205957
CREATED:20240606T113419Z
LAST-MODIFIED:20240606T113419Z
UID:10000143-1727049600-1727308799@sintapazores.com
SUMMARY:Ação 2 - GESTÃO DO TEMPO E RESISTENCIA AO STRESS
DESCRIPTION:
URL:https://sintapazores.com/evento/acao-2-gestao-do-tempo-e-resistencia-ao-stress/
LOCATION:São Miguel\, São Miguel\, Portugal
CATEGORIES:Formação
ORGANIZER;CN="SINTAP A%C3%A7ores":MAILTO:sede@sintapazores.com
END:VEVENT
BEGIN:VEVENT
DTSTART;VALUE=DATE:20240625
DTEND;VALUE=DATE:20240626
DTSTAMP:20260423T205957
CREATED:20240613T115809Z
LAST-MODIFIED:20240613T115809Z
UID:10000167-1719273600-1719359999@sintapazores.com
SUMMARY:Secretariado Regional
DESCRIPTION:  \nReunião
URL:https://sintapazores.com/evento/secretariado-regional/
LOCATION:Terceira\, Terceira\, Portugal
CATEGORIES:Geral
ORGANIZER;CN="SINTAP A%C3%A7ores":MAILTO:sede@sintapazores.com
END:VEVENT
BEGIN:VEVENT
DTSTART;TZID=Atlantic/Azores:20240607T160000
DTEND;TZID=Atlantic/Azores:20240607T200000
DTSTAMP:20260423T205957
CREATED:20240606T105353Z
LAST-MODIFIED:20240606T105353Z
UID:10000141-1717776000-1717790400@sintapazores.com
SUMMARY:Assinatura de acordo entre o SINTAP e a URMA
DESCRIPTION:  \nO SINTAP\, Sindicato dos Trabalhadores da Administração Pública e de Entidades com Fins Públicos\, e a URMA\, chegaram a um acordo de revisão global do Contrato Coletivo de Trabalho para os trabalhadores das MISERICÓDIAS\, para 2024\, através do qual se conseguiu obter uma apreciável valorização profissional e remuneratória dos referidos trabalhadores.
URL:https://sintapazores.com/evento/assinatura-de-acordo-entre-o-sintap-e-a-urma/
LOCATION:São Miguel\, São Miguel\, Portugal
CATEGORIES:Geral
ORGANIZER;CN="SINTAP A%C3%A7ores":MAILTO:sede@sintapazores.com
END:VEVENT
BEGIN:VEVENT
DTSTART;TZID=Atlantic/Azores:20240529T150000
DTEND;TZID=Atlantic/Azores:20240529T180000
DTSTAMP:20260423T205957
CREATED:20240527T162121Z
LAST-MODIFIED:20240527T162121Z
UID:10000140-1716994800-1717005600@sintapazores.com
SUMMARY:Assinatura do acordo de revisão global do Contrato Coletivo de Trabalho para as IPSS\, para 2024
DESCRIPTION:  \nO SINTAP\, Sindicato dos Trabalhadores da Administração Pública e de\nEntidades com Fins Públicos. e a URIPSSA\, chegaram a um acordo de revisão\nglobal do Contrato Coletivo de Trabalho para as IPSS\, para 2024\, através do qual\nse conseguiu obter uma valorização profissional e remuneratória dos trabalhadores\ndas IPS:\nNeste contexto\, o SINTAP informa que avançará com a formalização e\nassinatura do respetivo acordo\, em cerimónia que terá lugar no próximo dia 29 de\nmaio\, pelas 15H00\, na sede do SINTAP em Ponta Delgada\, sita na Rua Dr. João\nFrancisco Sousa\, n.º 20 1º.
URL:https://sintapazores.com/evento/assinatura-do-acordo-de-revisao-global-do-contrato-coletivo-de-trabalho-para-as-ipss-para-2024/
LOCATION:São Miguel\, São Miguel\, Portugal
CATEGORIES:Geral
ORGANIZER;CN="SINTAP A%C3%A7ores":MAILTO:sede@sintapazores.com
END:VEVENT
BEGIN:VEVENT
DTSTART;TZID=Atlantic/Azores:20240513T103000
DTEND;TZID=Atlantic/Azores:20240513T130000
DTSTAMP:20260423T205957
CREATED:20240509T100857Z
LAST-MODIFIED:20240509T100857Z
UID:10000137-1715596200-1715605200@sintapazores.com
SUMMARY:Conferência de Imprensa
DESCRIPTION:  \nConvidam-se os OCS para uma conferência de imprensa a realizar no próximo dia 13\nde maio\, segunda-feira\, pelas 10h30\, na respetiva sede do Sintap em Angra do Heroísmo\, com\npresença do Secretário-Geral José Abraão\, dos dirigentes e dos delegados sindicais do Sintap\,\na fim de tornar pública o desagrado do SINTAP pela ausência de diálogo e negociação com o\nGoverno da República sobre os problemas dos trabalhadores da Administração Pública em\nmatéria de vínculos carreiras e remunerações.
URL:https://sintapazores.com/evento/conferencia-de-imprensa/
LOCATION:Terceira\, Terceira\, Portugal
CATEGORIES:Geral
ORGANIZER;CN="SINTAP A%C3%A7ores":MAILTO:sede@sintapazores.com
END:VEVENT
BEGIN:VEVENT
DTSTART;VALUE=DATE:20240419
DTEND;VALUE=DATE:20240420
DTSTAMP:20260423T205957
CREATED:20240416T112236Z
LAST-MODIFIED:20240416T112236Z
UID:10000135-1713484800-1713571199@sintapazores.com
SUMMARY:Reunião com o Secretário Regional das Finanças
DESCRIPTION:  \n 
URL:https://sintapazores.com/evento/reuniao-com-o-secretario-regional-das-financas/
LOCATION:São Miguel\, São Miguel\, Portugal
CATEGORIES:Geral
ORGANIZER;CN="SINTAP A%C3%A7ores":MAILTO:sede@sintapazores.com
END:VEVENT
BEGIN:VEVENT
DTSTART;TZID=Atlantic/Azores:20240411T153000
DTEND;TZID=Atlantic/Azores:20240411T170000
DTSTAMP:20260423T205957
CREATED:20240405T161203Z
LAST-MODIFIED:20240405T161203Z
UID:10000132-1712849400-1712854800@sintapazores.com
SUMMARY:Reunião de dinamização sindical no Serviço de Ambiente e Alterações Climáticas da Ilha do Pico
DESCRIPTION:  \nEleição de delegados
URL:https://sintapazores.com/evento/reuniao-de-dinamizacao-sindical-no-servico-de-ambiente-e-alteracoes-climaticas-da-ilha-do-pico/
LOCATION:Pico\, Pico\, Portugal
CATEGORIES:Geral
ORGANIZER;CN="SINTAP A%C3%A7ores":MAILTO:sede@sintapazores.com
END:VEVENT
BEGIN:VEVENT
DTSTART;TZID=Atlantic/Azores:20240411T140000
DTEND;TZID=Atlantic/Azores:20240411T153000
DTSTAMP:20260423T205957
CREATED:20240405T161042Z
LAST-MODIFIED:20240405T161042Z
UID:10000131-1712844000-1712849400@sintapazores.com
SUMMARY:Reunião de dinamização sindical no Centro de Saúde de São Roque - Pico
DESCRIPTION:  \nEleição de delegados
URL:https://sintapazores.com/evento/reuniao-de-dinamizacao-sindical-no-centro-de-saude-de-sao-roque-pico/
LOCATION:Pico\, Pico\, Portugal
CATEGORIES:Geral
ORGANIZER;CN="SINTAP A%C3%A7ores":MAILTO:sede@sintapazores.com
END:VEVENT
BEGIN:VEVENT
DTSTART;TZID=Atlantic/Azores:20240411T110000
DTEND;TZID=Atlantic/Azores:20240411T123000
DTSTAMP:20260423T205957
CREATED:20240405T160857Z
LAST-MODIFIED:20240405T160857Z
UID:10000130-1712833200-1712838600@sintapazores.com
SUMMARY:Reunião de dinamização sindical na Câmara Municipal de São Roque - Pico
DESCRIPTION:  \nEleição de delegados
URL:https://sintapazores.com/evento/reuniao-de-dinamizacao-sindical-na-camara-municipal-de-sao-roque-pico/
LOCATION:Pico\, Pico\, Portugal
CATEGORIES:Geral
ORGANIZER;CN="SINTAP A%C3%A7ores":MAILTO:sede@sintapazores.com
END:VEVENT
BEGIN:VEVENT
DTSTART;TZID=Atlantic/Azores:20240411T090000
DTEND;TZID=Atlantic/Azores:20240411T110000
DTSTAMP:20260423T205957
CREATED:20240405T160752Z
LAST-MODIFIED:20240405T160752Z
UID:10000129-1712826000-1712833200@sintapazores.com
SUMMARY:Reunião de dinamização sindical na Escola Básica e Secundária de São Roque - Pico
DESCRIPTION:  \nEleição de delegados
URL:https://sintapazores.com/evento/reuniao-de-dinamizacao-sindical-na-escola-basica-e-secundaria-de-sao-roque-pico/
LOCATION:Pico\, Pico\, Portugal
CATEGORIES:Geral
ORGANIZER;CN="SINTAP A%C3%A7ores":MAILTO:sede@sintapazores.com
END:VEVENT
BEGIN:VEVENT
DTSTART;VALUE=DATE:20240411
DTEND;VALUE=DATE:20240412
DTSTAMP:20260423T205957
CREATED:20240410T161058Z
LAST-MODIFIED:20240410T161058Z
UID:10000133-1712793600-1712879999@sintapazores.com
SUMMARY:Negociação do CCT com a URMA
DESCRIPTION:  \nReunião de negociação\, da Convenção Coletiva de Trabalho\, entre o SINTAP e a União Regional das Misericórdias dos Açores
URL:https://sintapazores.com/evento/negociacao-do-cct-com-a-urma/
LOCATION:Faial\, Faial\, Portugal
CATEGORIES:Geral
ORGANIZER;CN="SINTAP A%C3%A7ores":MAILTO:sede@sintapazores.com
END:VEVENT
BEGIN:VEVENT
DTSTART;TZID=Atlantic/Azores:20240410T153000
DTEND;TZID=Atlantic/Azores:20240410T170000
DTSTAMP:20260423T205957
CREATED:20240405T160558Z
LAST-MODIFIED:20240405T160558Z
UID:10000128-1712763000-1712768400@sintapazores.com
SUMMARY:Reunião de dinamização sindical na Resiaçores - Pico
DESCRIPTION:  \nEleição de delegados
URL:https://sintapazores.com/evento/reuniao-de-dinamizacao-sindical-na-resiacores-pico/
LOCATION:Pico\, Pico\, Portugal
CATEGORIES:Geral
ORGANIZER;CN="SINTAP A%C3%A7ores":MAILTO:sede@sintapazores.com
END:VEVENT
BEGIN:VEVENT
DTSTART;TZID=Atlantic/Azores:20240410T140000
DTEND;TZID=Atlantic/Azores:20240410T153000
DTSTAMP:20260423T205957
CREATED:20240405T160436Z
LAST-MODIFIED:20240405T160436Z
UID:10000127-1712757600-1712763000@sintapazores.com
SUMMARY:Reunião de dinamização sindical na Câmara Municipal de Lajes - Pico
DESCRIPTION:  \nEleição de delegados
URL:https://sintapazores.com/evento/reuniao-de-dinamizacao-sindical-na-camara-municipal-de-lajes-pico/
LOCATION:Pico\, Pico\, Portugal
CATEGORIES:Geral
ORGANIZER;CN="SINTAP A%C3%A7ores":MAILTO:sede@sintapazores.com
END:VEVENT
BEGIN:VEVENT
DTSTART;TZID=Atlantic/Azores:20240410T110000
DTEND;TZID=Atlantic/Azores:20240410T123000
DTSTAMP:20260423T205957
CREATED:20240405T160313Z
LAST-MODIFIED:20240405T160313Z
UID:10000126-1712746800-1712752200@sintapazores.com
SUMMARY:Reunião de dinamização sindical no Centro de Saúde de Lajes do Pico/Junta de freguesia de Lajes/Museu dos Baleeiros/RIAC - Pico
DESCRIPTION:  \nEleição de delegados
URL:https://sintapazores.com/evento/reuniao-de-dinamizacao-sindical-no-centro-de-saude-de-lajes-do-pico-junta-de-freguesia-de-lajes-museu-dos-baleeiros-riac-pico/
LOCATION:Pico\, Pico\, Portugal
CATEGORIES:Geral
ORGANIZER;CN="SINTAP A%C3%A7ores":MAILTO:sede@sintapazores.com
END:VEVENT
BEGIN:VEVENT
DTSTART;TZID=Atlantic/Azores:20240410T090000
DTEND;TZID=Atlantic/Azores:20240410T110000
DTSTAMP:20260423T205957
CREATED:20240405T160127Z
LAST-MODIFIED:20240405T160127Z
UID:10000125-1712739600-1712746800@sintapazores.com
SUMMARY:Reunião de dinamização sindical na Escola Básica e Secundária das Lajes - Pico
DESCRIPTION:  \nEleição de delegados
URL:https://sintapazores.com/evento/reuniao-de-dinamizacao-sindical-na-escola-basica-e-secundaria-das-lajes-pico/
LOCATION:Pico\, Pico\, Portugal
CATEGORIES:Geral
ORGANIZER;CN="SINTAP A%C3%A7ores":MAILTO:sede@sintapazores.com
END:VEVENT
BEGIN:VEVENT
DTSTART;TZID=Atlantic/Azores:20240409T153000
DTEND;TZID=Atlantic/Azores:20240409T170000
DTSTAMP:20260423T205957
CREATED:20240405T155909Z
LAST-MODIFIED:20240405T155909Z
UID:10000124-1712676600-1712682000@sintapazores.com
SUMMARY:Reunião de dinamização sindical no Centro de Saúde da Madalena / Obras Públicas Madalena  - Pico
DESCRIPTION:  \nEleição de delegados
URL:https://sintapazores.com/evento/reuniao-de-dinamizacao-sindical-no-centro-de-saude-da-madalena-obras-publicas-madalena-pico/
LOCATION:Pico\, Pico\, Portugal
CATEGORIES:Geral
ORGANIZER;CN="SINTAP A%C3%A7ores":MAILTO:sede@sintapazores.com
END:VEVENT
BEGIN:VEVENT
DTSTART;TZID=Atlantic/Azores:20240409T140000
DTEND;TZID=Atlantic/Azores:20240409T153000
DTSTAMP:20260423T205957
CREATED:20240405T155727Z
LAST-MODIFIED:20240405T155727Z
UID:10000123-1712671200-1712676600@sintapazores.com
SUMMARY:Reunião de dinamização sindical na Escola Básica e Secundária da Madalena - Pico
DESCRIPTION:  \nEleição de delegados
URL:https://sintapazores.com/evento/reuniao-de-dinamizacao-sindical-na-escola-basica-e-secundaria-da-madalena-pico/
LOCATION:Pico\, Pico\, Portugal
CATEGORIES:Geral
ORGANIZER;CN="SINTAP A%C3%A7ores":MAILTO:sede@sintapazores.com
END:VEVENT
BEGIN:VEVENT
DTSTART;TZID=Atlantic/Azores:20240409T110000
DTEND;TZID=Atlantic/Azores:20240409T123000
DTSTAMP:20260423T205957
CREATED:20240405T155543Z
LAST-MODIFIED:20240405T155543Z
UID:10000122-1712660400-1712665800@sintapazores.com
SUMMARY:Reunião de dinamização sindical no Serviço de Desenvolvimento Agrário / Serviço de Desporto / RIAC - Pico
DESCRIPTION:  \nEleição de delegados
URL:https://sintapazores.com/evento/reuniao-de-dinamizacao-sindical-no-servico-de-desenvolvimento-agrario-servico-de-desporto-riac-pico/
LOCATION:Pico\, Pico\, Portugal
CATEGORIES:Geral
ORGANIZER;CN="SINTAP A%C3%A7ores":MAILTO:sede@sintapazores.com
END:VEVENT
BEGIN:VEVENT
DTSTART;TZID=Atlantic/Azores:20240409T083000
DTEND;TZID=Atlantic/Azores:20240409T110000
DTSTAMP:20260423T205957
CREATED:20240405T155308Z
LAST-MODIFIED:20240405T155308Z
UID:10000121-1712651400-1712660400@sintapazores.com
SUMMARY:Reunião de dinamização sindical na Câmara Municipal da Madalena - Pico
DESCRIPTION:  \nEleição de delegados
URL:https://sintapazores.com/evento/reuniao-de-dinamizacao-sindical-na-camara-municipal-da-madalena-pico/
LOCATION:Pico\, Pico\, Portugal
CATEGORIES:Geral
ORGANIZER;CN="SINTAP A%C3%A7ores":MAILTO:sede@sintapazores.com
END:VEVENT
BEGIN:VEVENT
DTSTART;TZID=Atlantic/Azores:20240320T160000
DTEND;TZID=Atlantic/Azores:20240320T170000
DTSTAMP:20260423T205957
CREATED:20240212T110456Z
LAST-MODIFIED:20240212T110456Z
UID:10000116-1710950400-1710954000@sintapazores.com
SUMMARY:REUNIÃO PARA ELEIÇÃO DE DELEGADOS SINDICAIS - Assembleia Legislativa Regional
DESCRIPTION:
URL:https://sintapazores.com/evento/reuniao-para-eleicao-de-delegados-sindicais-assembleia-legislativa-regional/
LOCATION:Faial\, Faial\, Portugal
CATEGORIES:Geral
ORGANIZER;CN="SINTAP A%C3%A7ores":MAILTO:sede@sintapazores.com
END:VEVENT
END:VCALENDAR