BEGIN:VCALENDAR
VERSION:2.0
PRODID:-//SINTAP Açores - ECPv6.15.20//NONSGML v1.0//EN
CALSCALE:GREGORIAN
METHOD:PUBLISH
X-WR-CALNAME:SINTAP Açores
X-ORIGINAL-URL:https://sintapazores.com
X-WR-CALDESC:Eventos para SINTAP Açores
REFRESH-INTERVAL;VALUE=DURATION:PT1H
X-Robots-Tag:noindex
X-PUBLISHED-TTL:PT1H
BEGIN:VTIMEZONE
TZID:Atlantic/Azores
BEGIN:DAYLIGHT
TZOFFSETFROM:-0100
TZOFFSETTO:+0000
TZNAME:+00
DTSTART:20230326T010000
END:DAYLIGHT
BEGIN:STANDARD
TZOFFSETFROM:+0000
TZOFFSETTO:-0100
TZNAME:-01
DTSTART:20231029T010000
END:STANDARD
BEGIN:DAYLIGHT
TZOFFSETFROM:-0100
TZOFFSETTO:+0000
TZNAME:+00
DTSTART:20240331T010000
END:DAYLIGHT
BEGIN:STANDARD
TZOFFSETFROM:+0000
TZOFFSETTO:-0100
TZNAME:-01
DTSTART:20241027T010000
END:STANDARD
BEGIN:DAYLIGHT
TZOFFSETFROM:-0100
TZOFFSETTO:+0000
TZNAME:+00
DTSTART:20250330T010000
END:DAYLIGHT
BEGIN:STANDARD
TZOFFSETFROM:+0000
TZOFFSETTO:-0100
TZNAME:-01
DTSTART:20251026T010000
END:STANDARD
END:VTIMEZONE
BEGIN:VEVENT
DTSTART;VALUE=DATE:20241111
DTEND;VALUE=DATE:20241116
DTSTAMP:20260423T174942
CREATED:20240606T115951Z
LAST-MODIFIED:20240606T115951Z
UID:10000158-1731283200-1731715199@sintapazores.com
SUMMARY:Ação 17 - A IMPORTANCIA DA COMUNICAÇÃO NA VIDA DA CRIANÇA
DESCRIPTION:
URL:https://sintapazores.com/evento/acao-17-a-importancia-da-comunicacao-na-vida-da-crianca/
LOCATION:São Miguel\, São Miguel\, Portugal
CATEGORIES:Formação
ORGANIZER;CN="SINTAP A%C3%A7ores":MAILTO:sede@sintapazores.com
END:VEVENT
BEGIN:VEVENT
DTSTART;VALUE=DATE:20241111
DTEND;VALUE=DATE:20241114
DTSTAMP:20260423T174942
CREATED:20240606T120058Z
LAST-MODIFIED:20240606T120058Z
UID:10000159-1731283200-1731542399@sintapazores.com
SUMMARY:Ação 18 - SEGURANÇA NO TRABALHO COM CRIANÇAS (AVANÇADO)
DESCRIPTION:
URL:https://sintapazores.com/evento/acao-18-seguranca-no-trabalho-com-criancas-avancado/
LOCATION:Terceira\, Terceira\, Portugal
CATEGORIES:Formação
ORGANIZER;CN="SINTAP A%C3%A7ores":MAILTO:sede@sintapazores.com
END:VEVENT
BEGIN:VEVENT
DTSTART;VALUE=DATE:20241111
DTEND;VALUE=DATE:20241112
DTSTAMP:20260423T174942
CREATED:20241017T163144Z
LAST-MODIFIED:20241017T163144Z
UID:10000188-1731283200-1731369599@sintapazores.com
SUMMARY:Reunião do Secretariado Coordenador do SINTAP-Açores
DESCRIPTION:  \n 
URL:https://sintapazores.com/evento/reuniao-do-secretariado-coordenador-do-sintap-acores/
LOCATION:Terceira\, Terceira\, Portugal
CATEGORIES:Geral
ORGANIZER;CN="SINTAP A%C3%A7ores":MAILTO:sede@sintapazores.com
END:VEVENT
BEGIN:VEVENT
DTSTART;VALUE=DATE:20241108
DTEND;VALUE=DATE:20241109
DTSTAMP:20260423T174942
CREATED:20240606T115824Z
LAST-MODIFIED:20241105T161044Z
UID:10000157-1731024000-1731110399@sintapazores.com
SUMMARY:Ação 16 - SEMINARIO - A importância do Delegado Sindical – Direitos e Deveres (A reagendar para 2025)
DESCRIPTION:
URL:https://sintapazores.com/evento/acao-16-seminario-a-importancia-do-delegado-sindical-direitos-e-deveres/
LOCATION:São Miguel\, São Miguel\, Portugal
CATEGORIES:Formação
ORGANIZER;CN="SINTAP A%C3%A7ores":MAILTO:sede@sintapazores.com
END:VEVENT
BEGIN:VEVENT
DTSTART;VALUE=DATE:20241104
DTEND;VALUE=DATE:20241107
DTSTAMP:20260423T174942
CREATED:20240606T115449Z
LAST-MODIFIED:20240606T115449Z
UID:10000155-1730678400-1730937599@sintapazores.com
SUMMARY:Ação 14 - DESENVOLVIMENTO PESSOAL E SOCIAL DA CRIANÇA
DESCRIPTION:
URL:https://sintapazores.com/evento/acao-14-desenvolvimento-pessoal-e-social-da-crianca/
LOCATION:Santa Maria\, Santa Maria
CATEGORIES:Formação
ORGANIZER;CN="SINTAP A%C3%A7ores":MAILTO:sede@sintapazores.com
END:VEVENT
BEGIN:VEVENT
DTSTART;VALUE=DATE:20241028
DTEND;VALUE=DATE:20241031
DTSTAMP:20260423T174942
CREATED:20240606T115015Z
LAST-MODIFIED:20240606T115015Z
UID:10000152-1730073600-1730332799@sintapazores.com
SUMMARY:Ação 11 - LEI GERAL DE TRABALHO EM FUNÇÕES PUBLICAS
DESCRIPTION:
URL:https://sintapazores.com/evento/acao-11-lei-geral-de-trabalho-em-funcoes-publicas/
LOCATION:Flores\, Flores\, Portugal
CATEGORIES:Formação
ORGANIZER;CN="SINTAP A%C3%A7ores":MAILTO:sede@sintapazores.com
END:VEVENT
BEGIN:VEVENT
DTSTART;VALUE=DATE:20241028
DTEND;VALUE=DATE:20241030
DTSTAMP:20260423T174942
CREATED:20240606T115145Z
LAST-MODIFIED:20240606T115145Z
UID:10000153-1730073600-1730246399@sintapazores.com
SUMMARY:Ação 12 - ATENDIMENTO AO PÚBLICO
DESCRIPTION:
URL:https://sintapazores.com/evento/acao-12-atendimento-ao-publico/
LOCATION:Terceira\, Terceira\, Portugal
CATEGORIES:Formação
ORGANIZER;CN="SINTAP A%C3%A7ores":MAILTO:sede@sintapazores.com
END:VEVENT
BEGIN:VEVENT
DTSTART;TZID=Atlantic/Azores:20241021T080000
DTEND;TZID=Atlantic/Azores:20241023T170000
DTSTAMP:20260423T174942
CREATED:20240606T114821Z
LAST-MODIFIED:20240606T114821Z
UID:10000151-1729497600-1729702800@sintapazores.com
SUMMARY:Ação 10 - FERIAS FALTAS E LICENÇAS
DESCRIPTION:
URL:https://sintapazores.com/evento/acao-10-ferias-faltas-e-licencas/
LOCATION:Graciosa\, Graciosa\, Portugal
CATEGORIES:Formação
ORGANIZER;CN="SINTAP A%C3%A7ores":MAILTO:sede@sintapazores.com
END:VEVENT
BEGIN:VEVENT
DTSTART;VALUE=DATE:20241021
DTEND;VALUE=DATE:20241025
DTSTAMP:20260423T174942
CREATED:20241021T111552Z
LAST-MODIFIED:20241021T111552Z
UID:10000189-1729468800-1729814399@sintapazores.com
SUMMARY:REÚNIÕES COM OS TRABALHADORES DA ADMINISTRAÇÃO PÚBLICA E DAS IPSS/MISERICÓRDIAS DA ILHA DE S. JORGE
DESCRIPTION:  \nO SINTAP inicia esta semana uma série de reuniões nos locais de\ntrabalho com os trabalhadores em funções públicas e com os trabalhadores\ndas IPSS/Misericórdias da ilha de S. Jorge. \nAs reuniões\, que decorrerão entre 21 e 24 de outubro\, têm como\nobjetivo informar os trabalhadores sobre as medidas de valorização\nprofissional e remuneratória aprovadas e negociadas entre o SINTAP e os\ngovernos da República e Região e com as Uniões das IPSS/Misericórdias. \nO ponto de situação sobre as negociações na Administração Pública com o\nGoverno da República estará também na agenda das reuniões. \nOuvir as preocupações e os problemas dos trabalhadores nossos\nassociados e procurar dar resposta e solução direta e imediata dos mesmos\njunto de quem de direito\, é outro dos objetivos desta visita de trabalho\nsindical a S. Jorge\, visita esta constituída por Orivaldo Chaves\, Paula Ávila\nOrlando Esteves e António Miranda\, dirigentes do SINTAP.
URL:https://sintapazores.com/evento/reunioes-com-os-trabalhadores-da-administracao-publica-e-das-ipss-misericordias-da-ilha-de-s-jorge/
LOCATION:São Jorge\, São Jorge\, Portugal
CATEGORIES:Geral
ORGANIZER;CN="SINTAP A%C3%A7ores":MAILTO:sede@sintapazores.com
END:VEVENT
BEGIN:VEVENT
DTSTART;VALUE=DATE:20241017
DTEND;VALUE=DATE:20241019
DTSTAMP:20260423T174942
CREATED:20240606T113008Z
LAST-MODIFIED:20240927T113457Z
UID:10000142-1729123200-1729295999@sintapazores.com
SUMMARY:Ação 1 - CODIGO DE TRABALHO E CCT´s
DESCRIPTION:
URL:https://sintapazores.com/evento/acao-1-codigo-de-trabalho-e-ccts/
LOCATION:Pico\, Pico\, Portugal
CATEGORIES:Formação
ORGANIZER;CN="SINTAP A%C3%A7ores":MAILTO:sede@sintapazores.com
END:VEVENT
BEGIN:VEVENT
DTSTART;TZID=Atlantic/Azores:20241016T183000
DTEND;TZID=Atlantic/Azores:20241016T203000
DTSTAMP:20260423T174942
CREATED:20241011T154010Z
LAST-MODIFIED:20241011T154010Z
UID:10000185-1729103400-1729110600@sintapazores.com
SUMMARY:Sessão de esclarecimento para associados do SINTAP na USIP
DESCRIPTION:  \nSessão de esclarecimento de dúvidas laborais aberta a todos os associados do SINTAP da ilha do Pico (Administração Publica e IPSS\Misericórdias) \nCentro de Saúde da Madalena
URL:https://sintapazores.com/evento/sessao-de-esclarecimento-para-associados-do-sintap-na-usip/
LOCATION:Pico\, Pico\, Portugal
CATEGORIES:Geral
ORGANIZER;CN="SINTAP A%C3%A7ores":MAILTO:sede@sintapazores.com
END:VEVENT
BEGIN:VEVENT
DTSTART;TZID=Atlantic/Azores:20241015T143000
DTEND;TZID=Atlantic/Azores:20241015T170000
DTSTAMP:20260423T174942
CREATED:20241014T094256Z
LAST-MODIFIED:20241014T094256Z
UID:10000187-1729002600-1729011600@sintapazores.com
SUMMARY:Conferência de Imprensa
DESCRIPTION:  \nA apresentação do Caderno Reivindicativo para 2025.
URL:https://sintapazores.com/evento/conferencia-de-imprensa-2/
LOCATION:Terceira\, Terceira\, Portugal
CATEGORIES:Geral
ORGANIZER;CN="SINTAP A%C3%A7ores":MAILTO:sede@sintapazores.com
END:VEVENT
BEGIN:VEVENT
DTSTART;VALUE=DATE:20241015
DTEND;VALUE=DATE:20241016
DTSTAMP:20260423T174942
CREATED:20241007T114118Z
LAST-MODIFIED:20241007T114118Z
UID:10000184-1728950400-1729036799@sintapazores.com
SUMMARY:Reunião Secretariado Coordenador Regional
DESCRIPTION:  \n1. Aprovação da ata da reunião anterior.\n2. Apresentação\, discussão e aprovação da Proposta de Orçamento e Plano de\nAtividades do SINTAP- Açores para 2025.\n3. Apresentação\, discussão e aprovação da Proposta de caderno Reivindicativo do\nSINTAP-Açores para 2025.\n4.Apresentação\, discussão e aprovação da Proposta do Plano de Formação para\n2025.\n5. Outros assuntos
URL:https://sintapazores.com/evento/reuniao-secretariado-coordenador-regional/
LOCATION:Terceira\, Terceira\, Portugal
CATEGORIES:Geral
ORGANIZER;CN="SINTAP A%C3%A7ores":MAILTO:sede@sintapazores.com
END:VEVENT
BEGIN:VEVENT
DTSTART;VALUE=DATE:20241014
DTEND;VALUE=DATE:20241017
DTSTAMP:20260423T174942
CREATED:20240606T114623Z
LAST-MODIFIED:20240606T114623Z
UID:10000150-1728864000-1729123199@sintapazores.com
SUMMARY:Ação 9 - LIDAR COM A ANSIEDADE\, PREOCUPAÇÃO E STRESS NO TRABALHO
DESCRIPTION:
URL:https://sintapazores.com/evento/acao-9-lidar-com-a-ansiedade-preocupacao-e-stress-no-trabalho/
LOCATION:Terceira\, Terceira\, Portugal
CATEGORIES:Formação
ORGANIZER;CN="SINTAP A%C3%A7ores":MAILTO:sede@sintapazores.com
END:VEVENT
BEGIN:VEVENT
DTSTART;VALUE=DATE:20241011
DTEND;VALUE=DATE:20241012
DTSTAMP:20260423T174942
CREATED:20241002T101513Z
LAST-MODIFIED:20241002T101802Z
UID:10000183-1728604800-1728691199@sintapazores.com
SUMMARY:Reunião da Secção da Horta
DESCRIPTION:  \nOrdem de trabalhos: \n  \n1. Análise e discussão e votação do orçamento da seção para 2025.    \n2. Análise e discussão e votação do plano de atividades para 2025.    \n3. Análise e discussão do relatório da dirigente a tempo parcial (18 de junho a 30 de setembro 2024).    \n4. Ponto de situação da pintura exterior do edifício.    \n5. Análise e discussão e decisão sobre as obras interiores.
URL:https://sintapazores.com/evento/reuniao-da-seccao-da-horta/
LOCATION:Faial\, Faial\, Portugal
CATEGORIES:Geral
ORGANIZER;CN="SINTAP A%C3%A7ores":MAILTO:sede@sintapazores.com
END:VEVENT
BEGIN:VEVENT
DTSTART;VALUE=DATE:20241007
DTEND;VALUE=DATE:20241010
DTSTAMP:20260423T174942
CREATED:20240606T114515Z
LAST-MODIFIED:20240606T114515Z
UID:10000149-1728259200-1728518399@sintapazores.com
SUMMARY:Ação 8 - ÉTICA\, INTEGRIDADE E TRANSPARÊNCIA
DESCRIPTION:
URL:https://sintapazores.com/evento/acao-8-etica-integridade-e-transparencia/
LOCATION:Faial\, Faial\, Portugal
CATEGORIES:Formação
ORGANIZER;CN="SINTAP A%C3%A7ores":MAILTO:sede@sintapazores.com
END:VEVENT
BEGIN:VEVENT
DTSTART;VALUE=DATE:20241007
DTEND;VALUE=DATE:20241010
DTSTAMP:20260423T174942
CREATED:20240606T114403Z
LAST-MODIFIED:20240606T114403Z
UID:10000148-1728259200-1728518399@sintapazores.com
SUMMARY:Ação 7 - SEGURANÇA NO TRABALHO COM CRIANÇAS (AVANÇADO)
DESCRIPTION:
URL:https://sintapazores.com/evento/acao-7-seguranca-no-trabalho-com-criancas-avancado/
LOCATION:São Miguel\, São Miguel\, Portugal
CATEGORIES:Formação
ORGANIZER;CN="SINTAP A%C3%A7ores":MAILTO:sede@sintapazores.com
END:VEVENT
BEGIN:VEVENT
DTSTART;VALUE=DATE:20241004
DTEND;VALUE=DATE:20241005
DTSTAMP:20260423T174942
CREATED:20240606T114246Z
LAST-MODIFIED:20240606T114246Z
UID:10000147-1728000000-1728086399@sintapazores.com
SUMMARY:Ação 6 - SEMINARIO - A importância do Delegado Sindical – Direitos e Deveres
DESCRIPTION:
URL:https://sintapazores.com/evento/acao-6-seminario-a-importancia-do-delegado-sindical-direitos-e-deveres/
LOCATION:São Jorge\, São Jorge\, Portugal
CATEGORIES:Formação
ORGANIZER;CN="SINTAP A%C3%A7ores":MAILTO:sede@sintapazores.com
END:VEVENT
BEGIN:VEVENT
DTSTART;TZID=Atlantic/Azores:20241003T140000
DTEND;TZID=Atlantic/Azores:20241003T170000
DTSTAMP:20260423T174942
CREATED:20241002T101006Z
LAST-MODIFIED:20241002T101006Z
UID:10000182-1727964000-1727974800@sintapazores.com
SUMMARY:Reunião na SCM de Santa Cruz da Graciosa\, Lar de Idosos
DESCRIPTION:
URL:https://sintapazores.com/evento/reuniao-na-scm-de-santa-cruz-da-graciosa-lar-de-idosos/
LOCATION:Graciosa\, Graciosa\, Portugal
CATEGORIES:Geral
ORGANIZER;CN="SINTAP A%C3%A7ores":MAILTO:sede@sintapazores.com
END:VEVENT
BEGIN:VEVENT
DTSTART;TZID=Atlantic/Azores:20241003T130000
DTEND;TZID=Atlantic/Azores:20241003T170000
DTSTAMP:20260423T174942
CREATED:20241002T100702Z
LAST-MODIFIED:20241002T100702Z
UID:10000179-1727960400-1727974800@sintapazores.com
SUMMARY:Reunião na Secretaria Regional do Turismo e Transportes
DESCRIPTION:
URL:https://sintapazores.com/evento/reuniao-na-secretaria-regional-do-turismo-e-transportes/
LOCATION:Graciosa\, Graciosa\, Portugal
CATEGORIES:Geral
ORGANIZER;CN="SINTAP A%C3%A7ores":MAILTO:sede@sintapazores.com
END:VEVENT
BEGIN:VEVENT
DTSTART;TZID=Atlantic/Azores:20241003T103000
DTEND;TZID=Atlantic/Azores:20241003T170000
DTSTAMP:20260423T174942
CREATED:20241002T100606Z
LAST-MODIFIED:20241002T100606Z
UID:10000178-1727951400-1727974800@sintapazores.com
SUMMARY:Reunião no IAMA – Matadouro da Graciosa
DESCRIPTION:
URL:https://sintapazores.com/evento/reuniao-no-iama-matadouro-da-graciosa/
LOCATION:Graciosa\, Graciosa\, Portugal
CATEGORIES:Geral
ORGANIZER;CN="SINTAP A%C3%A7ores":MAILTO:sede@sintapazores.com
END:VEVENT
BEGIN:VEVENT
DTSTART;TZID=Atlantic/Azores:20241003T100000
DTEND;TZID=Atlantic/Azores:20241003T170000
DTSTAMP:20260423T174942
CREATED:20241002T100917Z
LAST-MODIFIED:20241002T100917Z
UID:10000181-1727949600-1727974800@sintapazores.com
SUMMARY:Reunião na SCM de Santa Cruz da Graciosa\, Colégio e J/I o Balão
DESCRIPTION:
URL:https://sintapazores.com/evento/reuniao-na-scm-de-santa-cruz-da-graciosa-colegio-e-j-i-o-balao/
LOCATION:Graciosa\, Graciosa\, Portugal
CATEGORIES:Geral
ORGANIZER;CN="SINTAP A%C3%A7ores":MAILTO:sede@sintapazores.com
END:VEVENT
BEGIN:VEVENT
DTSTART;TZID=Atlantic/Azores:20241003T093000
DTEND;TZID=Atlantic/Azores:20241003T170000
DTSTAMP:20260423T174942
CREATED:20241002T100508Z
LAST-MODIFIED:20241002T100508Z
UID:10000177-1727947800-1727974800@sintapazores.com
SUMMARY:Reunião no Serviço de Desporto da Graciosa
DESCRIPTION:
URL:https://sintapazores.com/evento/reuniao-no-servico-de-desporto-da-graciosa/
LOCATION:Graciosa\, Graciosa\, Portugal
CATEGORIES:Geral
ORGANIZER;CN="SINTAP A%C3%A7ores":MAILTO:sede@sintapazores.com
END:VEVENT
BEGIN:VEVENT
DTSTART;TZID=Atlantic/Azores:20241003T080000
DTEND;TZID=Atlantic/Azores:20241003T170000
DTSTAMP:20260423T174942
CREATED:20241002T100416Z
LAST-MODIFIED:20241002T100416Z
UID:10000176-1727942400-1727974800@sintapazores.com
SUMMARY:Reunião no Município de Santa Cruz da Graciosa
DESCRIPTION:
URL:https://sintapazores.com/evento/reuniao-no-municipio-de-santa-cruz-da-graciosa/
LOCATION:Graciosa\, Graciosa\, Portugal
CATEGORIES:Geral
ORGANIZER;CN="SINTAP A%C3%A7ores":MAILTO:sede@sintapazores.com
END:VEVENT
BEGIN:VEVENT
DTSTART;VALUE=DATE:20241003
DTEND;VALUE=DATE:20241005
DTSTAMP:20260423T174942
CREATED:20240606T114127Z
LAST-MODIFIED:20240606T114127Z
UID:10000146-1727913600-1728086399@sintapazores.com
SUMMARY:Ação 5 - ATENDIMENTO AO PÚBLICO
DESCRIPTION:
URL:https://sintapazores.com/evento/acao-5-atendimento-ao-publico/
LOCATION:Flores\, Flores\, Portugal
CATEGORIES:Formação
ORGANIZER;CN="SINTAP A%C3%A7ores":MAILTO:sede@sintapazores.com
END:VEVENT
BEGIN:VEVENT
DTSTART;TZID=Atlantic/Azores:20241002T163000
DTEND;TZID=Atlantic/Azores:20241002T180000
DTSTAMP:20260423T174942
CREATED:20241002T100252Z
LAST-MODIFIED:20241002T100252Z
UID:10000175-1727886600-1727892000@sintapazores.com
SUMMARY:Reunião na Escola Básica e Secundária da Graciosa
DESCRIPTION:
URL:https://sintapazores.com/evento/reuniao-na-escola-basica-e-secundaria-da-graciosa/
LOCATION:Graciosa\, Graciosa\, Portugal
CATEGORIES:Geral
ORGANIZER;CN="SINTAP A%C3%A7ores":MAILTO:sede@sintapazores.com
END:VEVENT
BEGIN:VEVENT
DTSTART;TZID=Atlantic/Azores:20241002T160000
DTEND;TZID=Atlantic/Azores:20241002T170000
DTSTAMP:20260423T174942
CREATED:20241002T100149Z
LAST-MODIFIED:20241002T100149Z
UID:10000174-1727884800-1727888400@sintapazores.com
SUMMARY:Reunião no Serviço Florestal da Graciosa
DESCRIPTION:
URL:https://sintapazores.com/evento/reuniao-no-servico-florestal-da-graciosa/
LOCATION:Graciosa\, Graciosa\, Portugal
CATEGORIES:Geral
ORGANIZER;CN="SINTAP A%C3%A7ores":MAILTO:sede@sintapazores.com
END:VEVENT
BEGIN:VEVENT
DTSTART;TZID=Atlantic/Azores:20241002T150000
DTEND;TZID=Atlantic/Azores:20241002T170000
DTSTAMP:20260423T174942
CREATED:20241002T100043Z
LAST-MODIFIED:20241002T100043Z
UID:10000173-1727881200-1727888400@sintapazores.com
SUMMARY:Reunião no Serviço de Desenvolvimento Agrário da Graciosa
DESCRIPTION:
URL:https://sintapazores.com/evento/reuniao-no-servico-de-desenvolvimento-agrario-da-graciosa/
LOCATION:Graciosa\, Graciosa\, Portugal
CATEGORIES:Geral
ORGANIZER;CN="SINTAP A%C3%A7ores":MAILTO:sede@sintapazores.com
END:VEVENT
BEGIN:VEVENT
DTSTART;TZID=Atlantic/Azores:20241002T140000
DTEND;TZID=Atlantic/Azores:20241002T170000
DTSTAMP:20260423T174942
CREATED:20241002T100804Z
LAST-MODIFIED:20241002T100804Z
UID:10000180-1727877600-1727888400@sintapazores.com
SUMMARY:Reunião na Santa Casa da Misericórdia da Vila da Praia da Graciosa Lar de Idosos
DESCRIPTION:
URL:https://sintapazores.com/evento/reuniao-na-santa-casa-da-misericordia-da-vila-da-praia-da-graciosa-lar-de-idosos/
LOCATION:Graciosa\, Graciosa\, Portugal
CATEGORIES:Geral
ORGANIZER;CN="SINTAP A%C3%A7ores":MAILTO:sede@sintapazores.com
END:VEVENT
BEGIN:VEVENT
DTSTART;TZID=Atlantic/Azores:20241002T133000
DTEND;TZID=Atlantic/Azores:20241002T170000
DTSTAMP:20260423T174942
CREATED:20241002T095941Z
LAST-MODIFIED:20241002T101142Z
UID:10000172-1727875800-1727888400@sintapazores.com
SUMMARY:Reunião na Unidade de Saúde de Ilha - de Santa Cruz da Graciosa
DESCRIPTION:
URL:https://sintapazores.com/evento/reuniao-na-unidade-de-saude-de-ilha-de-santa-cruz-da-graciosa/
LOCATION:Graciosa\, Graciosa\, Portugal
CATEGORIES:Geral
ORGANIZER;CN="SINTAP A%C3%A7ores":MAILTO:sede@sintapazores.com
END:VEVENT
END:VCALENDAR