BEGIN:VCALENDAR
VERSION:2.0
PRODID:-//SINTAP Açores - ECPv6.15.20//NONSGML v1.0//EN
CALSCALE:GREGORIAN
METHOD:PUBLISH
X-WR-CALNAME:SINTAP Açores
X-ORIGINAL-URL:https://sintapazores.com
X-WR-CALDESC:Eventos para SINTAP Açores
REFRESH-INTERVAL;VALUE=DURATION:PT1H
X-Robots-Tag:noindex
X-PUBLISHED-TTL:PT1H
BEGIN:VTIMEZONE
TZID:Atlantic/Azores
BEGIN:DAYLIGHT
TZOFFSETFROM:-0100
TZOFFSETTO:+0000
TZNAME:+00
DTSTART:20230326T010000
END:DAYLIGHT
BEGIN:STANDARD
TZOFFSETFROM:+0000
TZOFFSETTO:-0100
TZNAME:-01
DTSTART:20231029T010000
END:STANDARD
BEGIN:DAYLIGHT
TZOFFSETFROM:-0100
TZOFFSETTO:+0000
TZNAME:+00
DTSTART:20240331T010000
END:DAYLIGHT
BEGIN:STANDARD
TZOFFSETFROM:+0000
TZOFFSETTO:-0100
TZNAME:-01
DTSTART:20241027T010000
END:STANDARD
BEGIN:DAYLIGHT
TZOFFSETFROM:-0100
TZOFFSETTO:+0000
TZNAME:+00
DTSTART:20250330T010000
END:DAYLIGHT
BEGIN:STANDARD
TZOFFSETFROM:+0000
TZOFFSETTO:-0100
TZNAME:-01
DTSTART:20251026T010000
END:STANDARD
BEGIN:DAYLIGHT
TZOFFSETFROM:-0100
TZOFFSETTO:+0000
TZNAME:+00
DTSTART:20260329T010000
END:DAYLIGHT
BEGIN:STANDARD
TZOFFSETFROM:+0000
TZOFFSETTO:-0100
TZNAME:-01
DTSTART:20261025T010000
END:STANDARD
END:VTIMEZONE
BEGIN:VEVENT
DTSTART;VALUE=DATE:20250527
DTEND;VALUE=DATE:20250530
DTSTAMP:20260423T125945
CREATED:20241209T112042Z
LAST-MODIFIED:20250527T084546Z
UID:10000199-1748304000-1748563199@sintapazores.com
SUMMARY:Ação nº4 - DESENVOLVIMENTO PESSOAL E SOCIAL DA CRIANÇA (nova data 27 maio\, 09:00)
DESCRIPTION:REAGENDAMENTO DA AÇÃO No 4 – HORTA \n  \nExmos. (as) senhores (as) \n  \nDevido ao cancelamento do voo Sata Terceira/Horta (SP638) e seu reagendamento para as\n22:35 de hoje\, 26 de maio\, não foi possível iniciar a formação na data prevista considerando\na chegada tardia da formadora Dr.a Monica Vieira. \nA formação “Desenvolvimento Pessoal e Social da Criança”\, inicialmente marcada para 26\na 28 de maio\, será realizada nos dias 27 a 29 de maio\, com início pelas 9 horas nas\ninstalações da Seção da Horta. \nAgradecemos a compreensão para não prejudicar a participação dos inscritos. \nGratos pela atenção e colaboração. \n  \nAna Paula Cecilio \n  \nCoordenadora Administrativa e Financeira \nDepartamento de Formação- SINTAP-AÇORES
URL:https://sintapazores.com/evento/acao-no4-desenvolvimento-pessoal-e-social-da-crianca/
LOCATION:Faial\, Faial\, Portugal
CATEGORIES:Formação
ORGANIZER;CN="SINTAP A%C3%A7ores":MAILTO:sede@sintapazores.com
END:VEVENT
BEGIN:VEVENT
DTSTART;VALUE=DATE:20250519
DTEND;VALUE=DATE:20250522
DTSTAMP:20260423T125945
CREATED:20241209T113258Z
LAST-MODIFIED:20241209T113258Z
UID:10000207-1747612800-1747871999@sintapazores.com
SUMMARY:Ação nº12 - DIREITOS E DEVERES DOS TRABALHADORES EM FUNÇÕES PÚBLICAS
DESCRIPTION:
URL:https://sintapazores.com/evento/acao-no12-direitos-e-deveres-dos-trabalhadores-em-funcoes-publicas/
LOCATION:Terceira\, Terceira\, Portugal
CATEGORIES:Formação
ORGANIZER;CN="SINTAP A%C3%A7ores":MAILTO:sede@sintapazores.com
END:VEVENT
BEGIN:VEVENT
DTSTART;VALUE=DATE:20250505
DTEND;VALUE=DATE:20250508
DTSTAMP:20260423T125945
CREATED:20241209T113045Z
LAST-MODIFIED:20241209T113045Z
UID:10000205-1746403200-1746662399@sintapazores.com
SUMMARY:Ação nº10 - GESTÃO DO STRESS E PREVENÇÃO DO BURNOUT
DESCRIPTION:
URL:https://sintapazores.com/evento/acao-no10-gestao-do-stress-e-prevencao-do-burnout/
LOCATION:Terceira\, Terceira\, Portugal
CATEGORIES:Formação
ORGANIZER;CN="SINTAP A%C3%A7ores":MAILTO:sede@sintapazores.com
END:VEVENT
BEGIN:VEVENT
DTSTART;VALUE=DATE:20250429
DTEND;VALUE=DATE:20250430
DTSTAMP:20260423T125945
CREATED:20250331T143705Z
LAST-MODIFIED:20250331T143705Z
UID:10000225-1745884800-1745971199@sintapazores.com
SUMMARY:Assembleia de Delegados Sindicais
DESCRIPTION:
URL:https://sintapazores.com/evento/assembleia-de-delegados-sindicais/
LOCATION:Faial\, Faial\, Portugal
CATEGORIES:Geral
ORGANIZER;CN="SINTAP A%C3%A7ores":MAILTO:sede@sintapazores.com
END:VEVENT
BEGIN:VEVENT
DTSTART;VALUE=DATE:20250428
DTEND;VALUE=DATE:20250501
DTSTAMP:20260423T125945
CREATED:20241209T112933Z
LAST-MODIFIED:20241209T112933Z
UID:10000204-1745798400-1746057599@sintapazores.com
SUMMARY:Ação nº9 - MECANISMOS CORPORAIS (mobilização\, transferências de doentes/idosos)
DESCRIPTION:
URL:https://sintapazores.com/evento/acao-no9-mecanismos-corporais-mobilizacao-transferencias-de-doentes-idosos/
LOCATION:São Miguel\, São Miguel\, Portugal
CATEGORIES:Formação
ORGANIZER;CN="SINTAP A%C3%A7ores":MAILTO:sede@sintapazores.com
END:VEVENT
BEGIN:VEVENT
DTSTART;TZID=Atlantic/Azores:20250424T100000
DTEND;TZID=Atlantic/Azores:20250424T123000
DTSTAMP:20260423T125945
CREATED:20250414T145134Z
LAST-MODIFIED:20250414T145134Z
UID:10000235-1745488800-1745497800@sintapazores.com
SUMMARY:Reunião sindicais com as IPSS do Pico (Madalena)
DESCRIPTION:
URL:https://sintapazores.com/evento/reuniao-sindicais-com-as-ipss-do-pico-madalena/
LOCATION:Pico\, Pico\, Portugal
CATEGORIES:Geral
ORGANIZER;CN="SINTAP A%C3%A7ores":MAILTO:sede@sintapazores.com
END:VEVENT
BEGIN:VEVENT
DTSTART;TZID=Atlantic/Azores:20250423T153000
DTEND;TZID=Atlantic/Azores:20250423T170000
DTSTAMP:20260423T125945
CREATED:20250414T144813Z
LAST-MODIFIED:20250414T144813Z
UID:10000234-1745422200-1745427600@sintapazores.com
SUMMARY:Reunião sindical com as Delegadas das IPSS
DESCRIPTION:
URL:https://sintapazores.com/evento/reuniao-sindical-com-as-delegadas-das-ipss/
LOCATION:Faial\, Faial\, Portugal
CATEGORIES:Geral
ORGANIZER;CN="SINTAP A%C3%A7ores":MAILTO:sede@sintapazores.com
END:VEVENT
BEGIN:VEVENT
DTSTART;TZID=Atlantic/Azores:20250423T143000
DTEND;TZID=Atlantic/Azores:20250423T153000
DTSTAMP:20260423T125945
CREATED:20250414T144705Z
LAST-MODIFIED:20250414T144705Z
UID:10000233-1745418600-1745422200@sintapazores.com
SUMMARY:Reunião sindical na UMAR
DESCRIPTION:
URL:https://sintapazores.com/evento/reuniao-sindical-na-umar/
LOCATION:Faial\, Faial\, Portugal
CATEGORIES:Geral
ORGANIZER;CN="SINTAP A%C3%A7ores":MAILTO:sede@sintapazores.com
END:VEVENT
BEGIN:VEVENT
DTSTART;TZID=Atlantic/Azores:20250423T120000
DTEND;TZID=Atlantic/Azores:20250423T130000
DTSTAMP:20260423T125945
CREATED:20250414T144549Z
LAST-MODIFIED:20250414T144549Z
UID:10000232-1745409600-1745413200@sintapazores.com
SUMMARY:Reunião sindical na Escola Básica Integrada da Horta
DESCRIPTION:
URL:https://sintapazores.com/evento/reuniao-sindical-na-escola-basica-integrada-da-horta/
LOCATION:Faial\, Faial\, Portugal
CATEGORIES:Geral
ORGANIZER;CN="SINTAP A%C3%A7ores":MAILTO:sede@sintapazores.com
END:VEVENT
BEGIN:VEVENT
DTSTART;TZID=Atlantic/Azores:20250423T103000
DTEND;TZID=Atlantic/Azores:20250423T120000
DTSTAMP:20260423T125945
CREATED:20250414T144404Z
LAST-MODIFIED:20250414T144404Z
UID:10000231-1745404200-1745409600@sintapazores.com
SUMMARY:Reunião sindical no Serviço Desporto Faial
DESCRIPTION:
URL:https://sintapazores.com/evento/reuniao-sindical-no-servico-desporto-faial/
LOCATION:Faial\, Faial\, Portugal
CATEGORIES:Geral
ORGANIZER;CN="SINTAP A%C3%A7ores":MAILTO:sede@sintapazores.com
END:VEVENT
BEGIN:VEVENT
DTSTART;TZID=Atlantic/Azores:20250422T193000
DTEND;TZID=Atlantic/Azores:20250422T210000
DTSTAMP:20260423T125945
CREATED:20250414T144153Z
LAST-MODIFIED:20250414T144257Z
UID:10000230-1745350200-1745355600@sintapazores.com
SUMMARY:Reunião sindical com CATL na sede da secção da Horta
DESCRIPTION:
URL:https://sintapazores.com/evento/reuniao-sindical-com-catl-na-sede-sa-seccao-da-horta/
LOCATION:Faial\, Faial\, Portugal
CATEGORIES:Geral
ORGANIZER;CN="SINTAP A%C3%A7ores":MAILTO:sede@sintapazores.com
END:VEVENT
BEGIN:VEVENT
DTSTART;TZID=Atlantic/Azores:20250422T153000
DTEND;TZID=Atlantic/Azores:20250422T170000
DTSTAMP:20260423T125945
CREATED:20250414T143954Z
LAST-MODIFIED:20250414T143954Z
UID:10000229-1745335800-1745341200@sintapazores.com
SUMMARY:Reunião sindical no Hospital da Horta
DESCRIPTION:
URL:https://sintapazores.com/evento/reuniao-sindical-no-hospital-da-horta/
LOCATION:Faial\, Faial\, Portugal
CATEGORIES:Geral
ORGANIZER;CN="SINTAP A%C3%A7ores":MAILTO:sede@sintapazores.com
END:VEVENT
BEGIN:VEVENT
DTSTART;TZID=Atlantic/Azores:20250422T140000
DTEND;TZID=Atlantic/Azores:20250422T153000
DTSTAMP:20260423T125945
CREATED:20250414T143748Z
LAST-MODIFIED:20250414T143748Z
UID:10000228-1745330400-1745335800@sintapazores.com
SUMMARY:Reunião sindical na Santa Casa Misericórdia da Horta
DESCRIPTION:
URL:https://sintapazores.com/evento/reuniao-sindical-na-santa-casa-misericordia-da-horta/
LOCATION:Faial\, Faial\, Portugal
CATEGORIES:Geral
ORGANIZER;CN="SINTAP A%C3%A7ores":MAILTO:sede@sintapazores.com
END:VEVENT
BEGIN:VEVENT
DTSTART;TZID=Atlantic/Azores:20250422T103000
DTEND;TZID=Atlantic/Azores:20250422T120000
DTSTAMP:20260423T125945
CREATED:20250414T143612Z
LAST-MODIFIED:20250414T143612Z
UID:10000227-1745317800-1745323200@sintapazores.com
SUMMARY:Reunião sindical no Centro Saúde da Horta
DESCRIPTION:
URL:https://sintapazores.com/evento/reuniao-sindical-no-centro-saude-da-horta/
LOCATION:Faial\, Faial\, Portugal
CATEGORIES:Geral
ORGANIZER;CN="SINTAP A%C3%A7ores":MAILTO:sede@sintapazores.com
END:VEVENT
BEGIN:VEVENT
DTSTART;TZID=Atlantic/Azores:20250421T090000
DTEND;TZID=Atlantic/Azores:20250423T170000
DTSTAMP:20260423T125945
CREATED:20250127T124151Z
LAST-MODIFIED:20250127T124151Z
UID:10000220-1745226000-1745427600@sintapazores.com
SUMMARY:Ação 25 - DIREITOS E DEVERES DOS TRABALHADORES EM FUNÇÕES PÚBLICAS
DESCRIPTION:
URL:https://sintapazores.com/evento/acao-25-direitos-e-deveres-dos-trabalhadores-em-funcoes-publicas/
LOCATION:Santa Maria\, Santa Maria
CATEGORIES:Formação
ORGANIZER;CN="SINTAP A%C3%A7ores":MAILTO:sede@sintapazores.com
END:VEVENT
BEGIN:VEVENT
DTSTART;VALUE=DATE:20250421
DTEND;VALUE=DATE:20250424
DTSTAMP:20260423T125945
CREATED:20241209T111603Z
LAST-MODIFIED:20250123T171738Z
UID:10000197-1745193600-1745452799@sintapazores.com
SUMMARY:Ação nº2 - LIDAR COM A ANSIEDADE\, PREOCUPAÇÃO E STRESS NO TRABALHO
DESCRIPTION:
URL:https://sintapazores.com/evento/acao-no2-lidar-com-a-ansiedade-preocupacao-e-stress-no-trabalho/
LOCATION:São Miguel\, São Miguel\, Portugal
CATEGORIES:Formação
ORGANIZER;CN="SINTAP A%C3%A7ores":MAILTO:sede@sintapazores.com
END:VEVENT
BEGIN:VEVENT
DTSTART;VALUE=DATE:20250414
DTEND;VALUE=DATE:20250417
DTSTAMP:20260423T125945
CREATED:20241209T112754Z
LAST-MODIFIED:20250331T144636Z
UID:10000203-1744588800-1744847999@sintapazores.com
SUMMARY:Cancelada a Ação nº8 - FERIAS FALTAS E LICENÇAS
DESCRIPTION:
URL:https://sintapazores.com/evento/acao-no8-ferias-faltas-e-licencas/
LOCATION:São Miguel\, São Miguel\, Portugal
CATEGORIES:Formação
ORGANIZER;CN="SINTAP A%C3%A7ores":MAILTO:sede@sintapazores.com
END:VEVENT
BEGIN:VEVENT
DTSTART;VALUE=DATE:20250410
DTEND;VALUE=DATE:20250412
DTSTAMP:20260423T125945
CREATED:20241209T112655Z
LAST-MODIFIED:20241209T112655Z
UID:10000202-1744243200-1744415999@sintapazores.com
SUMMARY:Ação nº7 - CÓDIGO DE TRABALHO E CCT´s
DESCRIPTION:
URL:https://sintapazores.com/evento/acao-no7-codigo-de-trabalho-e-ccts/
LOCATION:São Miguel\, São Miguel\, Portugal
CATEGORIES:Formação
ORGANIZER;CN="SINTAP A%C3%A7ores":MAILTO:sede@sintapazores.com
END:VEVENT
BEGIN:VEVENT
DTSTART;VALUE=DATE:20250407
DTEND;VALUE=DATE:20250412
DTSTAMP:20260423T125945
CREATED:20241209T112529Z
LAST-MODIFIED:20250331T144605Z
UID:10000201-1743984000-1744415999@sintapazores.com
SUMMARY:Cancelada a Ação nº6 - A IMPORTÂNCIA DA COMUNICAÇÃO NA VIDA DA CRIANÇA
DESCRIPTION:
URL:https://sintapazores.com/evento/acao-no6-a-importancia-da-comunicacao-na-vida-da-crianca/
LOCATION:Flores\, Flores\, Portugal
CATEGORIES:Formação
ORGANIZER;CN="SINTAP A%C3%A7ores":MAILTO:sede@sintapazores.com
END:VEVENT
BEGIN:VEVENT
DTSTART;VALUE=DATE:20250407
DTEND;VALUE=DATE:20250410
DTSTAMP:20260423T125945
CREATED:20241209T112234Z
LAST-MODIFIED:20241209T112234Z
UID:10000200-1743984000-1744243199@sintapazores.com
SUMMARY:Ação nº5 - LIDAR COM A ANSIEDADE\, PREOCUPAÇÃO E STRESS NO TRABALHO
DESCRIPTION:
URL:https://sintapazores.com/evento/acao-no5-lidar-com-a-ansiedade-preocupacao-e-stress-no-trabalho/
LOCATION:Terceira\, Terceira\, Portugal
CATEGORIES:Formação
ORGANIZER;CN="SINTAP A%C3%A7ores":MAILTO:sede@sintapazores.com
END:VEVENT
BEGIN:VEVENT
DTSTART;VALUE=DATE:20250317
DTEND;VALUE=DATE:20250320
DTSTAMP:20260423T125945
CREATED:20241209T111728Z
LAST-MODIFIED:20241209T111728Z
UID:10000198-1742169600-1742428799@sintapazores.com
SUMMARY:Ação nº3 - LIDAR COM A ANSIEDADE\, PREOCUPAÇÃO E STRESS NO TRABALHO
DESCRIPTION:
URL:https://sintapazores.com/evento/acao-no3-lidar-com-a-ansiedade-preocupacao-e-stress-no-trabalho/
LOCATION:São Jorge\, São Jorge\, Portugal
CATEGORIES:Formação
ORGANIZER;CN="SINTAP A%C3%A7ores":MAILTO:sede@sintapazores.com
END:VEVENT
BEGIN:VEVENT
DTSTART;VALUE=DATE:20250310
DTEND;VALUE=DATE:20250311
DTSTAMP:20260423T125945
CREATED:20250303T170029Z
LAST-MODIFIED:20250303T170029Z
UID:10000221-1741564800-1741651199@sintapazores.com
SUMMARY:Secretariado Coordenador Regional
DESCRIPTION:
URL:https://sintapazores.com/evento/secretariado-coordenador-regional-4/
LOCATION:São Miguel\, São Miguel\, Portugal
CATEGORIES:Geral
ORGANIZER;CN="SINTAP A%C3%A7ores":MAILTO:sede@sintapazores.com
END:VEVENT
BEGIN:VEVENT
DTSTART;VALUE=DATE:20250217
DTEND;VALUE=DATE:20250219
DTSTAMP:20260423T125945
CREATED:20241209T111256Z
LAST-MODIFIED:20250122T120545Z
UID:10000196-1739750400-1739923199@sintapazores.com
SUMMARY:Cancelada a Ação nº1 - CÓDIGO DE TRABALHO E CCT´s
DESCRIPTION:Cabe informar que fomos forçados a proceder ao cancelamento da ação de formação 1/2025 – Código de Trabalho e CCT’s\, agendada para 17 e 18 de fevereiro em Angra do Heroísmo\, considerando que a mesma não tinha o número mínimo de inscrições\, de modo a viabilizar a sua realização.
URL:https://sintapazores.com/evento/acao-no1-codigo-de-trabalho-e-ccts/
LOCATION:Terceira\, Terceira\, Portugal
CATEGORIES:Formação
ORGANIZER;CN="SINTAP A%C3%A7ores":MAILTO:sede@sintapazores.com
END:VEVENT
BEGIN:VEVENT
DTSTART;TZID=Atlantic/Azores:20241219T183000
DTEND;TZID=Atlantic/Azores:20241219T193000
DTSTAMP:20260423T125945
CREATED:20241129T121702Z
LAST-MODIFIED:20241129T121702Z
UID:10000192-1734633000-1734636600@sintapazores.com
SUMMARY:Reunião com associados no Lar das Criancinhas
DESCRIPTION:
URL:https://sintapazores.com/evento/reuniao-com-associados-no-lar-das-criancinhas/
LOCATION:Faial\, Faial\, Portugal
CATEGORIES:Geral
ORGANIZER;CN="SINTAP A%C3%A7ores":MAILTO:sede@sintapazores.com
END:VEVENT
BEGIN:VEVENT
DTSTART;TZID=Atlantic/Azores:20241219T113000
DTEND;TZID=Atlantic/Azores:20241219T170000
DTSTAMP:20260423T125945
CREATED:20241118T115854Z
LAST-MODIFIED:20241118T115854Z
UID:10000190-1734607800-1734627600@sintapazores.com
SUMMARY:Reunião sindical com os associados Resiaçores
DESCRIPTION:
URL:https://sintapazores.com/evento/reuniao-sindical-com-os-associados-resiacores/
LOCATION:Pico\, Pico\, Portugal
CATEGORIES:Geral
ORGANIZER;CN="SINTAP A%C3%A7ores":MAILTO:sede@sintapazores.com
END:VEVENT
BEGIN:VEVENT
DTSTART;TZID=Atlantic/Azores:20241218T153000
DTEND;TZID=Atlantic/Azores:20241218T163000
DTSTAMP:20260423T125945
CREATED:20241129T122603Z
LAST-MODIFIED:20241129T122603Z
UID:10000195-1734535800-1734539400@sintapazores.com
SUMMARY:Reunião sindical com os associados na Santa Casa Misericórdia da Horta
DESCRIPTION:
URL:https://sintapazores.com/evento/reuniao-sindical-com-os-associados-na-santa-casa-misericordia-da-horta/
LOCATION:Faial\, Faial\, Portugal
CATEGORIES:Geral
ORGANIZER;CN="SINTAP A%C3%A7ores":MAILTO:sede@sintapazores.com
END:VEVENT
BEGIN:VEVENT
DTSTART;TZID=Atlantic/Azores:20241218T140000
DTEND;TZID=Atlantic/Azores:20241218T150000
DTSTAMP:20260423T125945
CREATED:20241129T122430Z
LAST-MODIFIED:20241129T122430Z
UID:10000194-1734530400-1734534000@sintapazores.com
SUMMARY:Reunião sindical com os associados no C.C.D. Espirito Santo
DESCRIPTION:
URL:https://sintapazores.com/evento/reuniao-sindical-com-os-associados-no-c-c-d-espirito-santo/
LOCATION:Faial\, Faial\, Portugal
CATEGORIES:Geral
ORGANIZER;CN="SINTAP A%C3%A7ores":MAILTO:sede@sintapazores.com
END:VEVENT
BEGIN:VEVENT
DTSTART;TZID=Atlantic/Azores:20241217T173000
DTEND;TZID=Atlantic/Azores:20241217T183000
DTSTAMP:20260423T125945
CREATED:20241129T121514Z
LAST-MODIFIED:20241129T121514Z
UID:10000191-1734456600-1734460200@sintapazores.com
SUMMARY:Reunião com associados no Colégio de Santo António
DESCRIPTION:
URL:https://sintapazores.com/evento/reuniao-com-associados-no-colegio-de-santo-antonio/
LOCATION:Faial\, Faial\, Portugal
CATEGORIES:Geral
ORGANIZER;CN="SINTAP A%C3%A7ores":MAILTO:sede@sintapazores.com
END:VEVENT
BEGIN:VEVENT
DTSTART;VALUE=DATE:20241209
DTEND;VALUE=DATE:20241212
DTSTAMP:20260423T125945
CREATED:20240606T120921Z
LAST-MODIFIED:20240606T120921Z
UID:10000166-1733702400-1733961599@sintapazores.com
SUMMARY:Ação 25 - FERIAS FALTAS E LICENÇAS
DESCRIPTION:
URL:https://sintapazores.com/evento/acao-25-ferias-faltas-e-licencas/
LOCATION:Pico\, Pico\, Portugal
CATEGORIES:Formação
ORGANIZER;CN="SINTAP A%C3%A7ores":MAILTO:sede@sintapazores.com
END:VEVENT
BEGIN:VEVENT
DTSTART;VALUE=DATE:20241202
DTEND;VALUE=DATE:20241207
DTSTAMP:20260423T125945
CREATED:20240606T120819Z
LAST-MODIFIED:20240606T120819Z
UID:10000165-1733097600-1733529599@sintapazores.com
SUMMARY:Ação 24 - A IMPORTANCIA DA COMUNICAÇÃO NA VIDA DA CRIANÇA
DESCRIPTION:
URL:https://sintapazores.com/evento/acao-24-a-importancia-da-comunicacao-na-vida-da-crianca/
LOCATION:Terceira\, Terceira\, Portugal
CATEGORIES:Formação
ORGANIZER;CN="SINTAP A%C3%A7ores":MAILTO:sede@sintapazores.com
END:VEVENT
END:VCALENDAR