BEGIN:VCALENDAR
VERSION:2.0
PRODID:-//SINTAP Açores - ECPv6.15.20//NONSGML v1.0//EN
CALSCALE:GREGORIAN
METHOD:PUBLISH
X-WR-CALNAME:SINTAP Açores
X-ORIGINAL-URL:https://sintapazores.com
X-WR-CALDESC:Eventos para SINTAP Açores
REFRESH-INTERVAL;VALUE=DURATION:PT1H
X-Robots-Tag:noindex
X-PUBLISHED-TTL:PT1H
BEGIN:VTIMEZONE
TZID:Atlantic/Azores
BEGIN:DAYLIGHT
TZOFFSETFROM:-0100
TZOFFSETTO:+0000
TZNAME:+00
DTSTART:20250330T010000
END:DAYLIGHT
BEGIN:STANDARD
TZOFFSETFROM:+0000
TZOFFSETTO:-0100
TZNAME:-01
DTSTART:20251026T010000
END:STANDARD
BEGIN:DAYLIGHT
TZOFFSETFROM:-0100
TZOFFSETTO:+0000
TZNAME:+00
DTSTART:20260329T010000
END:DAYLIGHT
BEGIN:STANDARD
TZOFFSETFROM:+0000
TZOFFSETTO:-0100
TZNAME:-01
DTSTART:20261025T010000
END:STANDARD
BEGIN:DAYLIGHT
TZOFFSETFROM:-0100
TZOFFSETTO:+0000
TZNAME:+00
DTSTART:20270328T010000
END:DAYLIGHT
BEGIN:STANDARD
TZOFFSETFROM:+0000
TZOFFSETTO:-0100
TZNAME:-01
DTSTART:20271031T010000
END:STANDARD
BEGIN:DAYLIGHT
TZOFFSETFROM:-0100
TZOFFSETTO:+0000
TZNAME:+00
DTSTART:20280326T010000
END:DAYLIGHT
BEGIN:STANDARD
TZOFFSETFROM:+0000
TZOFFSETTO:-0100
TZNAME:-01
DTSTART:20281029T010000
END:STANDARD
END:VTIMEZONE
BEGIN:VEVENT
DTSTART;TZID=Atlantic/Azores:20260914T090000
DTEND;TZID=Atlantic/Azores:20260916T170000
DTSTAMP:20260423T101430
CREATED:20260113T212019Z
LAST-MODIFIED:20260113T212019Z
UID:10000270-1789376400-1789578000@sintapazores.com
SUMMARY:Ação 18 - COMUNICAÇÃO ASSERTIVA COM PESSOAS DIFICEIS
DESCRIPTION:
URL:https://sintapazores.com/evento/acao-18-comunicacao-assertiva-com-pessoas-dificeis/
LOCATION:Pico\, Pico\, Portugal
CATEGORIES:Formação
ORGANIZER;CN="SINTAP A%C3%A7ores":MAILTO:sede@sintapazores.com
END:VEVENT
BEGIN:VEVENT
DTSTART;TZID=Atlantic/Azores:20260921T090000
DTEND;TZID=Atlantic/Azores:20260923T170000
DTSTAMP:20260423T101430
CREATED:20260113T212155Z
LAST-MODIFIED:20260113T212155Z
UID:10000271-1789981200-1790182800@sintapazores.com
SUMMARY:Ação 19 - DESENVOLVIMENTO PESSOAL E SOCIAL DA CRIANÇA
DESCRIPTION:
URL:https://sintapazores.com/evento/acao-19-desenvolvimento-pessoal-e-social-da-crianca/
LOCATION:Terceira\, Terceira\, Portugal
CATEGORIES:Formação
ORGANIZER;CN="SINTAP A%C3%A7ores":MAILTO:sede@sintapazores.com
END:VEVENT
BEGIN:VEVENT
DTSTART;TZID=Atlantic/Azores:20260921T090000
DTEND;TZID=Atlantic/Azores:20260923T170000
DTSTAMP:20260423T101430
CREATED:20260113T212316Z
LAST-MODIFIED:20260113T212316Z
UID:10000272-1789981200-1790182800@sintapazores.com
SUMMARY:Ação 20 - Regimes Jurídicos de Emprego Público e Lei Geral do Trabalho em Funções Pública
DESCRIPTION:
URL:https://sintapazores.com/evento/acao-20-regimes-juridicos-de-emprego-publico-e-lei-geral-do-trabalho-em-funcoes-publica/
LOCATION:Graciosa\, Graciosa\, Portugal
CATEGORIES:Formação
ORGANIZER;CN="SINTAP A%C3%A7ores":MAILTO:sede@sintapazores.com
END:VEVENT
BEGIN:VEVENT
DTSTART;TZID=Atlantic/Azores:20260928T090000
DTEND;TZID=Atlantic/Azores:20260930T170000
DTSTAMP:20260423T101430
CREATED:20260113T212655Z
LAST-MODIFIED:20260113T212655Z
UID:10000274-1790586000-1790787600@sintapazores.com
SUMMARY:Ação 22 - Segurança no Trabalho – 1ª Intervenção em incêndios\, emergências e evacuação
DESCRIPTION:
URL:https://sintapazores.com/evento/acao-22-seguranca-no-trabalho-1a-intervencao-em-incendios-emergencias-e-evacuacao/
LOCATION:São Miguel\, São Miguel\, Portugal
CATEGORIES:Formação
ORGANIZER;CN="SINTAP A%C3%A7ores":MAILTO:sede@sintapazores.com
END:VEVENT
BEGIN:VEVENT
DTSTART;TZID=Atlantic/Azores:20261006T090000
DTEND;TZID=Atlantic/Azores:20261007T170000
DTSTAMP:20260423T101430
CREATED:20260113T212829Z
LAST-MODIFIED:20260113T212829Z
UID:10000275-1791277200-1791392400@sintapazores.com
SUMMARY:Ação 23 - CONCILIAÇÃO DA VIDA PROFISSIONAL\, PESSOAL E FAMILIAR
DESCRIPTION:
URL:https://sintapazores.com/evento/acao-23-conciliacao-da-vida-profissional-pessoal-e-familiar/
LOCATION:Terceira\, Terceira\, Portugal
CATEGORIES:Formação
ORGANIZER;CN="SINTAP A%C3%A7ores":MAILTO:sede@sintapazores.com
END:VEVENT
BEGIN:VEVENT
DTSTART;TZID=Atlantic/Azores:20261006T090000
DTEND;TZID=Atlantic/Azores:20261007T170000
DTSTAMP:20260423T101430
CREATED:20260113T213556Z
LAST-MODIFIED:20260113T213556Z
UID:10000276-1791277200-1791392400@sintapazores.com
SUMMARY:Ação 24 - ÉTICA\, INTEGRIDADE E TRANSPARÊNCIA
DESCRIPTION:
URL:https://sintapazores.com/evento/acao-24-etica-integridade-e-transparencia/
LOCATION:Faial \ Pico\, Açores\, Açores\, Portugal
CATEGORIES:Formação
ORGANIZER;CN="SINTAP A%C3%A7ores":MAILTO:sede@sintapazores.com
END:VEVENT
BEGIN:VEVENT
DTSTART;TZID=Atlantic/Azores:20261006T090000
DTEND;TZID=Atlantic/Azores:20261008T170000
DTSTAMP:20260423T101430
CREATED:20260113T213749Z
LAST-MODIFIED:20260113T213749Z
UID:10000277-1791277200-1791478800@sintapazores.com
SUMMARY:Ação 25 - Segurança no Trabalho – 1ª Intervenção em incêndios\, emergências e evacuação
DESCRIPTION:
URL:https://sintapazores.com/evento/acao-25-seguranca-no-trabalho-1a-intervencao-em-incendios-emergencias-e-evacuacao/
LOCATION:São Jorge\, São Jorge\, Portugal
CATEGORIES:Formação
ORGANIZER;CN="SINTAP A%C3%A7ores":MAILTO:sede@sintapazores.com
END:VEVENT
BEGIN:VEVENT
DTSTART;TZID=Atlantic/Azores:20261012T090000
DTEND;TZID=Atlantic/Azores:20261014T170000
DTSTAMP:20260423T101430
CREATED:20260113T213927Z
LAST-MODIFIED:20260113T213927Z
UID:10000278-1791795600-1791997200@sintapazores.com
SUMMARY:Ação 26 - AUTISMO: DESAFIOS E OPORTUNIDADES EM CONTEXTO ESCOLAR
DESCRIPTION:
URL:https://sintapazores.com/evento/acao-26-autismo-desafios-e-oportunidades-em-contexto-escolar/
LOCATION:Faial\, Faial\, Portugal
CATEGORIES:Formação
ORGANIZER;CN="SINTAP A%C3%A7ores":MAILTO:sede@sintapazores.com
END:VEVENT
BEGIN:VEVENT
DTSTART;TZID=Atlantic/Azores:20261026T090000
DTEND;TZID=Atlantic/Azores:20261028T170000
DTSTAMP:20260423T101430
CREATED:20260113T212504Z
LAST-MODIFIED:20260226T213337Z
UID:10000273-1793005200-1793206800@sintapazores.com
SUMMARY:Ação 21 - GESTÃO DO STRESS E PREVENÇÃO DO BURNOUT
DESCRIPTION:
URL:https://sintapazores.com/evento/acao-21-gestao-do-stress-e-prevencao-do-burnout/
LOCATION:Santa Maria\, Santa Maria
CATEGORIES:Formação
ORGANIZER;CN="SINTAP A%C3%A7ores":MAILTO:sede@sintapazores.com
END:VEVENT
BEGIN:VEVENT
DTSTART;TZID=Atlantic/Azores:20261026T090000
DTEND;TZID=Atlantic/Azores:20261028T170000
DTSTAMP:20260423T101430
CREATED:20260113T214058Z
LAST-MODIFIED:20260113T214058Z
UID:10000279-1793005200-1793206800@sintapazores.com
SUMMARY:Ação 27 - Regimes Jurídicos de Emprego Público e Lei Geral do Trabalho em Funções Pública
DESCRIPTION:
URL:https://sintapazores.com/evento/acao-27-regimes-juridicos-de-emprego-publico-e-lei-geral-do-trabalho-em-funcoes-publica/
LOCATION:São Miguel\, São Miguel\, Portugal
CATEGORIES:Formação
ORGANIZER;CN="SINTAP A%C3%A7ores":MAILTO:sede@sintapazores.com
END:VEVENT
BEGIN:VEVENT
DTSTART;TZID=Atlantic/Azores:20261102T090000
DTEND;TZID=Atlantic/Azores:20261104T170000
DTSTAMP:20260423T101430
CREATED:20260113T214218Z
LAST-MODIFIED:20260113T214218Z
UID:10000280-1793610000-1793811600@sintapazores.com
SUMMARY:Ação 28 - Segurança no Trabalho – 1ª Intervenção em incêndios\, emergências e evacuação
DESCRIPTION:
URL:https://sintapazores.com/evento/acao-28-seguranca-no-trabalho-1a-intervencao-em-incendios-emergencias-e-evacuacao/
LOCATION:Terceira\, Terceira\, Portugal
CATEGORIES:Formação
ORGANIZER;CN="SINTAP A%C3%A7ores":MAILTO:sede@sintapazores.com
END:VEVENT
BEGIN:VEVENT
DTSTART;TZID=Atlantic/Azores:20261109T090000
DTEND;TZID=Atlantic/Azores:20261110T170000
DTSTAMP:20260423T101430
CREATED:20260113T214354Z
LAST-MODIFIED:20260113T214354Z
UID:10000281-1794214800-1794330000@sintapazores.com
SUMMARY:Ação 29 - CONCILIAÇÃO DA VIDA PROFISSIONAL\, PESSOAL E FAMILIAR
DESCRIPTION:
URL:https://sintapazores.com/evento/acao-29-conciliacao-da-vida-profissional-pessoal-e-familiar/
LOCATION:São Miguel\, São Miguel\, Portugal
CATEGORIES:Formação
ORGANIZER;CN="SINTAP A%C3%A7ores":MAILTO:sede@sintapazores.com
END:VEVENT
BEGIN:VEVENT
DTSTART;TZID=Atlantic/Azores:20261116T090000
DTEND;TZID=Atlantic/Azores:20261118T170000
DTSTAMP:20260423T101430
CREATED:20260113T214524Z
LAST-MODIFIED:20260113T214524Z
UID:10000282-1794819600-1795021200@sintapazores.com
SUMMARY:Ação 30 - TRANSFORMAR A PRESSÃO EM PRODUTIVIDADE
DESCRIPTION:
URL:https://sintapazores.com/evento/acao-30-transformar-a-pressao-em-produtividade/
LOCATION:São Miguel\, São Miguel\, Portugal
CATEGORIES:Formação
ORGANIZER;CN="SINTAP A%C3%A7ores":MAILTO:sede@sintapazores.com
END:VEVENT
BEGIN:VEVENT
DTSTART;TZID=Atlantic/Azores:20261123T090000
DTEND;TZID=Atlantic/Azores:20261125T170000
DTSTAMP:20260423T101430
CREATED:20260113T214643Z
LAST-MODIFIED:20260113T214643Z
UID:10000283-1795424400-1795626000@sintapazores.com
SUMMARY:Ação 31 - Regimes Jurídicos de Emprego Público e Lei Geral do Trabalho em Funções Pública
DESCRIPTION:
URL:https://sintapazores.com/evento/acao-31-regimes-juridicos-de-emprego-publico-e-lei-geral-do-trabalho-em-funcoes-publica/
LOCATION:Faial\, Faial\, Portugal
CATEGORIES:Formação
ORGANIZER;CN="SINTAP A%C3%A7ores":MAILTO:sede@sintapazores.com
END:VEVENT
BEGIN:VEVENT
DTSTART;TZID=Atlantic/Azores:20261202T090000
DTEND;TZID=Atlantic/Azores:20261204T170000
DTSTAMP:20260423T101430
CREATED:20260113T215217Z
LAST-MODIFIED:20260113T215217Z
UID:10000285-1796202000-1796403600@sintapazores.com
SUMMARY:Ação 33 - TRANSFORMAR A PRESSÃO EM PRODUTIVIDADE
DESCRIPTION:
URL:https://sintapazores.com/evento/acao-33-transformar-a-pressao-em-produtividade/
LOCATION:Faial\, Faial\, Portugal
CATEGORIES:Formação
ORGANIZER;CN="SINTAP A%C3%A7ores":MAILTO:sede@sintapazores.com
END:VEVENT
BEGIN:VEVENT
DTSTART;TZID=Atlantic/Azores:20261209T090000
DTEND;TZID=Atlantic/Azores:20261212T170000
DTSTAMP:20260423T101430
CREATED:20260113T215346Z
LAST-MODIFIED:20260113T215346Z
UID:10000286-1796806800-1797094800@sintapazores.com
SUMMARY:Ação 34 - Regimes Jurídicos de Emprego Público e Lei Geral do Trabalho em Funções Pública
DESCRIPTION:
URL:https://sintapazores.com/evento/acao-34-regimes-juridicos-de-emprego-publico-e-lei-geral-do-trabalho-em-funcoes-publica/
LOCATION:Terceira\, Terceira\, Portugal
CATEGORIES:Formação
ORGANIZER;CN="SINTAP A%C3%A7ores":MAILTO:sede@sintapazores.com
END:VEVENT
BEGIN:VEVENT
DTSTART;TZID=Atlantic/Azores:20270629T090000
DTEND;TZID=Atlantic/Azores:20270630T170000
DTSTAMP:20260423T101430
CREATED:20260113T214759Z
LAST-MODIFIED:20260225T164106Z
UID:10000284-1814259600-1814374800@sintapazores.com
SUMMARY:Ação 32 - CÓDIGO DE TRABALHO E CCT´s
DESCRIPTION:
URL:https://sintapazores.com/evento/acao-32-codigo-de-trabalho-e-ccts/
LOCATION:São Jorge\, São Jorge\, Portugal
CATEGORIES:Formação
ORGANIZER;CN="SINTAP A%C3%A7ores":MAILTO:sede@sintapazores.com
END:VEVENT
END:VCALENDAR