BEGIN:VCALENDAR
VERSION:2.0
PRODID:-//SINTAP Açores - ECPv6.15.20//NONSGML v1.0//EN
CALSCALE:GREGORIAN
METHOD:PUBLISH
X-ORIGINAL-URL:https://sintapazores.com
X-WR-CALDESC:Eventos para SINTAP Açores
REFRESH-INTERVAL;VALUE=DURATION:PT1H
X-Robots-Tag:noindex
X-PUBLISHED-TTL:PT1H
BEGIN:VTIMEZONE
TZID:Atlantic/Azores
BEGIN:DAYLIGHT
TZOFFSETFROM:-0100
TZOFFSETTO:+0000
TZNAME:+00
DTSTART:20210328T010000
END:DAYLIGHT
BEGIN:STANDARD
TZOFFSETFROM:+0000
TZOFFSETTO:-0100
TZNAME:-01
DTSTART:20211031T010000
END:STANDARD
BEGIN:DAYLIGHT
TZOFFSETFROM:-0100
TZOFFSETTO:+0000
TZNAME:+00
DTSTART:20220327T010000
END:DAYLIGHT
BEGIN:STANDARD
TZOFFSETFROM:+0000
TZOFFSETTO:-0100
TZNAME:-01
DTSTART:20221030T010000
END:STANDARD
BEGIN:DAYLIGHT
TZOFFSETFROM:-0100
TZOFFSETTO:+0000
TZNAME:+00
DTSTART:20230326T010000
END:DAYLIGHT
BEGIN:STANDARD
TZOFFSETFROM:+0000
TZOFFSETTO:-0100
TZNAME:-01
DTSTART:20231029T010000
END:STANDARD
BEGIN:DAYLIGHT
TZOFFSETFROM:-0100
TZOFFSETTO:+0000
TZNAME:+00
DTSTART:20240331T010000
END:DAYLIGHT
BEGIN:STANDARD
TZOFFSETFROM:+0000
TZOFFSETTO:-0100
TZNAME:-01
DTSTART:20241027T010000
END:STANDARD
BEGIN:DAYLIGHT
TZOFFSETFROM:-0100
TZOFFSETTO:+0000
TZNAME:+00
DTSTART:20250330T010000
END:DAYLIGHT
BEGIN:STANDARD
TZOFFSETFROM:+0000
TZOFFSETTO:-0100
TZNAME:-01
DTSTART:20251026T010000
END:STANDARD
BEGIN:DAYLIGHT
TZOFFSETFROM:-0100
TZOFFSETTO:+0000
TZNAME:+00
DTSTART:20260329T010000
END:DAYLIGHT
BEGIN:STANDARD
TZOFFSETFROM:+0000
TZOFFSETTO:-0100
TZNAME:-01
DTSTART:20261025T010000
END:STANDARD
END:VTIMEZONE
BEGIN:VEVENT
DTSTART;VALUE=DATE:20251020
DTEND;VALUE=DATE:20251024
DTSTAMP:20260420T121411
CREATED:20251023T120913Z
LAST-MODIFIED:20251023T120913Z
UID:10000246-1760918400-1761263999@sintapazores.com
SUMMARY:Reuniões sindicais em São Jorge
DESCRIPTION:
URL:https://sintapazores.com/evento/reunioes-sindicais-em-sao-jorge/
LOCATION:São Jorge\, São Jorge\, Portugal
CATEGORIES:Geral
ORGANIZER;CN="SINTAP A%C3%A7ores":MAILTO:sede@sintapazores.com
END:VEVENT
BEGIN:VEVENT
DTSTART;VALUE=DATE:20250317
DTEND;VALUE=DATE:20250320
DTSTAMP:20260420T121411
CREATED:20241209T111728Z
LAST-MODIFIED:20241209T111728Z
UID:10000198-1742169600-1742428799@sintapazores.com
SUMMARY:Ação nº3 - LIDAR COM A ANSIEDADE\, PREOCUPAÇÃO E STRESS NO TRABALHO
DESCRIPTION:
URL:https://sintapazores.com/evento/acao-no3-lidar-com-a-ansiedade-preocupacao-e-stress-no-trabalho/
LOCATION:São Jorge\, São Jorge\, Portugal
CATEGORIES:Formação
ORGANIZER;CN="SINTAP A%C3%A7ores":MAILTO:sede@sintapazores.com
END:VEVENT
BEGIN:VEVENT
DTSTART;TZID=Atlantic/Azores:20241118T080000
DTEND;TZID=Atlantic/Azores:20241120T170000
DTSTAMP:20260420T121411
CREATED:20240606T120342Z
LAST-MODIFIED:20240606T120342Z
UID:10000161-1731916800-1732122000@sintapazores.com
SUMMARY:Ação 20 - FERIAS FALTAS E LICENÇAS
DESCRIPTION:
URL:https://sintapazores.com/evento/acao-20-ferias-faltas-e-licencas/
LOCATION:São Jorge\, São Jorge\, Portugal
CATEGORIES:Formação
ORGANIZER;CN="SINTAP A%C3%A7ores":MAILTO:sede@sintapazores.com
END:VEVENT
BEGIN:VEVENT
DTSTART;VALUE=DATE:20241021
DTEND;VALUE=DATE:20241025
DTSTAMP:20260420T121411
CREATED:20241021T111552Z
LAST-MODIFIED:20241021T111552Z
UID:10000189-1729468800-1729814399@sintapazores.com
SUMMARY:REÚNIÕES COM OS TRABALHADORES DA ADMINISTRAÇÃO PÚBLICA E DAS IPSS/MISERICÓRDIAS DA ILHA DE S. JORGE
DESCRIPTION:  \nO SINTAP inicia esta semana uma série de reuniões nos locais de\ntrabalho com os trabalhadores em funções públicas e com os trabalhadores\ndas IPSS/Misericórdias da ilha de S. Jorge. \nAs reuniões\, que decorrerão entre 21 e 24 de outubro\, têm como\nobjetivo informar os trabalhadores sobre as medidas de valorização\nprofissional e remuneratória aprovadas e negociadas entre o SINTAP e os\ngovernos da República e Região e com as Uniões das IPSS/Misericórdias. \nO ponto de situação sobre as negociações na Administração Pública com o\nGoverno da República estará também na agenda das reuniões. \nOuvir as preocupações e os problemas dos trabalhadores nossos\nassociados e procurar dar resposta e solução direta e imediata dos mesmos\njunto de quem de direito\, é outro dos objetivos desta visita de trabalho\nsindical a S. Jorge\, visita esta constituída por Orivaldo Chaves\, Paula Ávila\nOrlando Esteves e António Miranda\, dirigentes do SINTAP.
URL:https://sintapazores.com/evento/reunioes-com-os-trabalhadores-da-administracao-publica-e-das-ipss-misericordias-da-ilha-de-s-jorge/
LOCATION:São Jorge\, São Jorge\, Portugal
CATEGORIES:Geral
ORGANIZER;CN="SINTAP A%C3%A7ores":MAILTO:sede@sintapazores.com
END:VEVENT
BEGIN:VEVENT
DTSTART;VALUE=DATE:20241004
DTEND;VALUE=DATE:20241005
DTSTAMP:20260420T121411
CREATED:20240606T114246Z
LAST-MODIFIED:20240606T114246Z
UID:10000147-1728000000-1728086399@sintapazores.com
SUMMARY:Ação 6 - SEMINARIO - A importância do Delegado Sindical – Direitos e Deveres
DESCRIPTION:
URL:https://sintapazores.com/evento/acao-6-seminario-a-importancia-do-delegado-sindical-direitos-e-deveres/
LOCATION:São Jorge\, São Jorge\, Portugal
CATEGORIES:Formação
ORGANIZER;CN="SINTAP A%C3%A7ores":MAILTO:sede@sintapazores.com
END:VEVENT
BEGIN:VEVENT
DTSTART;VALUE=DATE:20230905
DTEND;VALUE=DATE:20230910
DTSTAMP:20260420T121411
CREATED:20230310T104522Z
LAST-MODIFIED:20230615T153223Z
UID:10000061-1693872000-1694303999@sintapazores.com
SUMMARY:Acão de formação nº 9 - LIDAR COM A ANSIEDADE\, PREOCUPAÇÃO E STRESS NO TRABALHO
DESCRIPTION:Realiza-se na ilha de São Jorge
URL:https://sintapazores.com/evento/acao-de-formacao-no-9-lidar-com-a-ansiedade-preocupacao-e-stress-no-trabalho/
LOCATION:São Jorge\, São Jorge\, Portugal
CATEGORIES:Formação
ORGANIZER;CN="SINTAP A%C3%A7ores":MAILTO:sede@sintapazores.com
END:VEVENT
BEGIN:VEVENT
DTSTART;VALUE=DATE:20230612
DTEND;VALUE=DATE:20230616
DTSTAMP:20260420T121411
CREATED:20230615T105512Z
LAST-MODIFIED:20230615T105512Z
UID:10000085-1686528000-1686873599@sintapazores.com
SUMMARY:Reuniões de dinamização sindical na ilha de São Jorge
DESCRIPTION:
URL:https://sintapazores.com/evento/reunioes-de-dinamizacao-sindical-na-ilha-de-sao-jorge/
LOCATION:São Jorge\, São Jorge\, Portugal
CATEGORIES:Geral
ORGANIZER;CN="SINTAP A%C3%A7ores":MAILTO:sede@sintapazores.com
END:VEVENT
BEGIN:VEVENT
DTSTART;VALUE=DATE:20220919
DTEND;VALUE=DATE:20220922
DTSTAMP:20260420T121411
CREATED:20220720T113142Z
LAST-MODIFIED:20220722T135305Z
UID:10000006-1663545600-1663804799@sintapazores.com
SUMMARY:Segurança no Trabalho com Crianças
DESCRIPTION:Público Alvo: \nTrabalhadores das IPSS/Misericórdias que prestam serviço nas valências de creche/jardins de infância/ATL. \nTrabalhadores da carreira geral de assistente operacional de estabelecimentos escolares. \nDr. Paulo Laranjeira
URL:https://sintapazores.com/evento/seguranca-no-trabalho-com-criancas/
LOCATION:São Jorge\, São Jorge\, Portugal
CATEGORIES:Formação
ATTACH;FMTTYPE=image/jpeg:https://sintapazores.com/wp-content/uploads/2022/07/dgert.jpg
END:VEVENT
END:VCALENDAR